BEGIN:VCALENDAR
VERSION:2.0
PRODID:-//Guía oficial de Cantabria | Turismo | Descubre Cantabria - ECPv6.15.20//NONSGML v1.0//EN
CALSCALE:GREGORIAN
METHOD:PUBLISH
X-WR-CALNAME:Guía oficial de Cantabria | Turismo | Descubre Cantabria
X-ORIGINAL-URL:https://descubrecantabria.info
X-WR-CALDESC:Eventos para Guía oficial de Cantabria | Turismo | Descubre Cantabria
REFRESH-INTERVAL;VALUE=DURATION:PT1H
X-Robots-Tag:noindex
X-PUBLISHED-TTL:PT1H
BEGIN:VTIMEZONE
TZID:Europe/Madrid
BEGIN:DAYLIGHT
TZOFFSETFROM:+0100
TZOFFSETTO:+0200
TZNAME:CEST
DTSTART:20250330T010000
END:DAYLIGHT
BEGIN:STANDARD
TZOFFSETFROM:+0200
TZOFFSETTO:+0100
TZNAME:CET
DTSTART:20251026T010000
END:STANDARD
BEGIN:DAYLIGHT
TZOFFSETFROM:+0100
TZOFFSETTO:+0200
TZNAME:CEST
DTSTART:20260329T010000
END:DAYLIGHT
BEGIN:STANDARD
TZOFFSETFROM:+0200
TZOFFSETTO:+0100
TZNAME:CET
DTSTART:20261025T010000
END:STANDARD
BEGIN:DAYLIGHT
TZOFFSETFROM:+0100
TZOFFSETTO:+0200
TZNAME:CEST
DTSTART:20270328T010000
END:DAYLIGHT
BEGIN:STANDARD
TZOFFSETFROM:+0200
TZOFFSETTO:+0100
TZNAME:CET
DTSTART:20271031T010000
END:STANDARD
END:VTIMEZONE
BEGIN:VEVENT
DTSTART;TZID=Europe/Madrid:20260426T120000
DTEND;TZID=Europe/Madrid:20260426T170000
DTSTAMP:20260426T053508
CREATED:20260424T124011Z
LAST-MODIFIED:20260424T124037Z
UID:25989759-1777204800-1777222800@descubrecantabria.info
SUMMARY:100 años del puente de Unquera y Bustio
DESCRIPTION:¿DE QUÉ TRATA “100 años del puente de Unquera y Bustio”?\n  \nAl lado del puente se realizará a las 12:00 el acto institucional conmemorativo del centenario y a las 12:30 se repartirá vino español. Conmemoración de los 100 años del puente que une Unquera y Bustio. \n  \n¡Disfruta de los “100 años del puente de Unquera y Bustio”!\nDescubre Cantabria informa de que los diferentes eventos publicados se ofrecen a modo informativo\, no siendo Descubre Cantabria responsable de los problemas o daños causados por erratas o incorrecciones de los mismos.
URL:https://descubrecantabria.info/evento/100-anos-del-puente-de-unquera-y-bustio/
LOCATION:Puente de Unquera\, Calle San Felipe Neri\, 4\, Val de San Vicente\, Cantabria\, 39560\, Spain
CATEGORIES:Charlas
ATTACH;FMTTYPE=image/webp:https://descubrecantabria.info/wp-content/uploads/2026/04/eventos-cantabria-100-anos-del-puente-unquera-y-bustio_11zon-1.webp
END:VEVENT
END:VCALENDAR