BEGIN:VCALENDAR
VERSION:2.0
PRODID:-//Guía oficial de Cantabria | Turismo | Descubre Cantabria - ECPv6.15.20//NONSGML v1.0//EN
CALSCALE:GREGORIAN
METHOD:PUBLISH
X-WR-CALNAME:Guía oficial de Cantabria | Turismo | Descubre Cantabria
X-ORIGINAL-URL:https://descubrecantabria.info
X-WR-CALDESC:Eventos para Guía oficial de Cantabria | Turismo | Descubre Cantabria
REFRESH-INTERVAL;VALUE=DURATION:PT1H
X-Robots-Tag:noindex
X-PUBLISHED-TTL:PT1H
BEGIN:VTIMEZONE
TZID:Europe/Madrid
BEGIN:DAYLIGHT
TZOFFSETFROM:+0100
TZOFFSETTO:+0200
TZNAME:CEST
DTSTART:20250330T010000
END:DAYLIGHT
BEGIN:STANDARD
TZOFFSETFROM:+0200
TZOFFSETTO:+0100
TZNAME:CET
DTSTART:20251026T010000
END:STANDARD
BEGIN:DAYLIGHT
TZOFFSETFROM:+0100
TZOFFSETTO:+0200
TZNAME:CEST
DTSTART:20260329T010000
END:DAYLIGHT
BEGIN:STANDARD
TZOFFSETFROM:+0200
TZOFFSETTO:+0100
TZNAME:CET
DTSTART:20261025T010000
END:STANDARD
BEGIN:DAYLIGHT
TZOFFSETFROM:+0100
TZOFFSETTO:+0200
TZNAME:CEST
DTSTART:20270328T010000
END:DAYLIGHT
BEGIN:STANDARD
TZOFFSETFROM:+0200
TZOFFSETTO:+0100
TZNAME:CET
DTSTART:20271031T010000
END:STANDARD
END:VTIMEZONE
BEGIN:VEVENT
DTSTART;TZID=Europe/Madrid:20260329T100000
DTEND;TZID=Europe/Madrid:20260329T170000
DTSTAMP:20260423T081512
CREATED:20260324T115200Z
LAST-MODIFIED:20260324T115233Z
UID:24846368-1774778400-1774803600@descubrecantabria.info
SUMMARY:5º encuentro meditación soleada Solórzano
DESCRIPTION:¿DE QUÉ TRATA “5º encuentro meditación soleada Solórzano”?\n  \nEn este quinto encuentro\, después de haber visto toda una serie de herramietas para poder llevar la meditación a nuestra vida diaria\, el día 29 de marzo emprenderemos el Sendero Sagrado o Camino Soleado\, una oportunidad para dar un paso al frente con el Alma y que sea ella la que nos vaya guiando.  \nEsta actividad es gratuita y está abierta a todas las personas que quieran acompañarnos. Si te animas y necesitas m´s información no dudes en contactarme.  \nToda la información en: 691 22 91 74 \n  \n¡Disfruta de los “5º encuentro meditación soleada Solórzano”!\nDescubre Cantabria informa de que los diferentes eventos publicados se ofrecen a modo informativo\, no siendo Descubre Cantabria responsable de los problemas o daños causados por erratas o incorrecciones de los mismos.
URL:https://descubrecantabria.info/evento/5o-encuentro-meditacion-soleada-solorzano/
LOCATION:Escuelas de Solorzano\, Barrio la Puente\, 59\, Solorzano\, Cantabria\, 39738\, Spain
CATEGORIES:Talleres
ATTACH;FMTTYPE=image/webp:https://descubrecantabria.info/wp-content/uploads/2026/03/eventos-cantabria-culminamos-este-cilo-de-meditacion_11zon.webp
END:VEVENT
END:VCALENDAR