BEGIN:VCALENDAR
VERSION:2.0
PRODID:-//Guía oficial de Cantabria | Turismo | Descubre Cantabria - ECPv6.15.20//NONSGML v1.0//EN
CALSCALE:GREGORIAN
METHOD:PUBLISH
X-WR-CALNAME:Guía oficial de Cantabria | Turismo | Descubre Cantabria
X-ORIGINAL-URL:https://descubrecantabria.info
X-WR-CALDESC:Eventos para Guía oficial de Cantabria | Turismo | Descubre Cantabria
REFRESH-INTERVAL;VALUE=DURATION:PT1H
X-Robots-Tag:noindex
X-PUBLISHED-TTL:PT1H
BEGIN:VTIMEZONE
TZID:Europe/Madrid
BEGIN:DAYLIGHT
TZOFFSETFROM:+0100
TZOFFSETTO:+0200
TZNAME:CEST
DTSTART:20250330T010000
END:DAYLIGHT
BEGIN:STANDARD
TZOFFSETFROM:+0200
TZOFFSETTO:+0100
TZNAME:CET
DTSTART:20251026T010000
END:STANDARD
BEGIN:DAYLIGHT
TZOFFSETFROM:+0100
TZOFFSETTO:+0200
TZNAME:CEST
DTSTART:20260329T010000
END:DAYLIGHT
BEGIN:STANDARD
TZOFFSETFROM:+0200
TZOFFSETTO:+0100
TZNAME:CET
DTSTART:20261025T010000
END:STANDARD
BEGIN:DAYLIGHT
TZOFFSETFROM:+0100
TZOFFSETTO:+0200
TZNAME:CEST
DTSTART:20270328T010000
END:DAYLIGHT
BEGIN:STANDARD
TZOFFSETFROM:+0200
TZOFFSETTO:+0100
TZNAME:CET
DTSTART:20271031T010000
END:STANDARD
END:VTIMEZONE
BEGIN:VEVENT
DTSTART;TZID=Europe/Madrid:20260411T100000
DTEND;TZID=Europe/Madrid:20260411T170000
DTSTAMP:20260423T081500
CREATED:20260308T102847Z
LAST-MODIFIED:20260308T102859Z
UID:282138-1775901600-1775926800@descubrecantabria.info
SUMMARY:Alas de colores: Jardín de Mariposas Soba
DESCRIPTION:¿DE QUÉ TRATA “Alas de colores: Jardín de Mariposas Soba”?\n  \nEn esta jornada de voluntariado ambiental construiremos juntos un jardín de mariposas en las inmediaciones del Parque Natural de los Collados del Asón\, diseñando un espacio para cubrir las necesidades de cada etapa vital de estos polinizadores esenciales para la biodiversidad. \nPara ello delimitaremos el espacio\, rastrillaremos el terreno\, sembraremos y plantaremos una selección de especies representativas de la zona: plantas aromáticas\, brezos y arbustos de flor. Además\, colocaremos madera muerta y piedras como refugio y alimento para larvas\, orugas y mariposas\, un mini hotel de insectos y un panel informativo que ayudará a los visitantes a comprender la importancia de los polinizadores y el fascinante ciclo de vida de las mariposas. \nSerá una actividad abierta a todas las edades\, en la que entre todos y todas crearemos un rincón vivo y educativo que servirá de refugio para insectos y mariposas\, y de lugar de encuentro para las personas que quieran conocer y valorar más de cerca la importancia de estos pequeños aliados del planeta.  \nRecomendaciones: Imprescindible inscripción previa. Ropa y calzado adecuado a las condiciones meteorológicas y actividades en la naturaleza \n  \n¡Disfruta de los “Alas de colores: Jardín de Mariposas Soba”!\nDescubre Cantabria informa de que los diferentes eventos publicados se ofrecen a modo informativo\, no siendo Descubre Cantabria responsable de los problemas o daños causados por erratas o incorrecciones de los mismos.
URL:https://descubrecantabria.info/evento/alas-de-colores-jardin-de-mariposas-soba/
LOCATION:Parque del Mirador de La Gandara\, Barrio Lavin\, 5147\, La Gándara\, Cantabria\, 39806\, Spain
CATEGORIES:Talleres
ATTACH;FMTTYPE=image/webp:https://descubrecantabria.info/wp-content/uploads/2026/03/eventos-en-cantabria-alas-de-colores-jardin-de-maariposas-en-soba_11zon.webp
END:VEVENT
END:VCALENDAR