BEGIN:VCALENDAR
VERSION:2.0
PRODID:-//Guía oficial de Cantabria | Turismo | Descubre Cantabria - ECPv6.15.20//NONSGML v1.0//EN
CALSCALE:GREGORIAN
METHOD:PUBLISH
X-WR-CALNAME:Guía oficial de Cantabria | Turismo | Descubre Cantabria
X-ORIGINAL-URL:https://descubrecantabria.info
X-WR-CALDESC:Eventos para Guía oficial de Cantabria | Turismo | Descubre Cantabria
REFRESH-INTERVAL;VALUE=DURATION:PT1H
X-Robots-Tag:noindex
X-PUBLISHED-TTL:PT1H
BEGIN:VTIMEZONE
TZID:Europe/Madrid
BEGIN:DAYLIGHT
TZOFFSETFROM:+0100
TZOFFSETTO:+0200
TZNAME:CEST
DTSTART:20250330T010000
END:DAYLIGHT
BEGIN:STANDARD
TZOFFSETFROM:+0200
TZOFFSETTO:+0100
TZNAME:CET
DTSTART:20251026T010000
END:STANDARD
BEGIN:DAYLIGHT
TZOFFSETFROM:+0100
TZOFFSETTO:+0200
TZNAME:CEST
DTSTART:20260329T010000
END:DAYLIGHT
BEGIN:STANDARD
TZOFFSETFROM:+0200
TZOFFSETTO:+0100
TZNAME:CET
DTSTART:20261025T010000
END:STANDARD
BEGIN:DAYLIGHT
TZOFFSETFROM:+0100
TZOFFSETTO:+0200
TZNAME:CEST
DTSTART:20270328T010000
END:DAYLIGHT
BEGIN:STANDARD
TZOFFSETFROM:+0200
TZOFFSETTO:+0100
TZNAME:CET
DTSTART:20271031T010000
END:STANDARD
END:VTIMEZONE
BEGIN:VEVENT
DTSTART;TZID=Europe/Madrid:20260311T193000
DTEND;TZID=Europe/Madrid:20260311T193000
DTSTAMP:20260422T172322
CREATED:20260210T142305Z
LAST-MODIFIED:20260210T142325Z
UID:278817-1773257400-1773257400@descubrecantabria.info
SUMMARY:Ciencia en el Ateneo: "Seducción vs. coerción sexual: ¿dónde está el límite?"
DESCRIPTION:¿DE QUÉ TRATA “Ciencia en el Ateneo: “Seducción vs. coerción sexual: ¿dónde está el límite?””?\n  \nDesde 2013 el Ateneo de Santander y el Instituto de Física de Cantabria (UC-CSIC) mantienen una fructífera colaboración para acercar las ciencias a la sociedad cántabra\, a la que este curso se une la del Aula de la Ciencia de la Universidad de Cantabria. De forma rigurosa\, pero con un corazón ameno y divulgativo\, cada año\, tienen lugar ponencias sobre diversos aspectos de la actualidad desde una perspectiva científica. En estas ponencias la relevancia de las investigaciones más recientes queda patente cuando son observadas con una perspectiva histórica\, dando como resultado un panorama que recorre pasado\, presente y futuro del papel fundamental que tienen las ciencias en nuestro día a día. \n  \n¡Disfruta de los “Ciencia en el Ateneo: “Seducción vs. coerción sexual: ¿dónde está el límite?””!\nDescubre Cantabria informa de que los diferentes eventos publicados se ofrecen a modo informativo\, no siendo Descubre Cantabria responsable de los problemas o daños causados por erratas o incorrecciones de los mismos.
URL:https://descubrecantabria.info/evento/ciencia-en-el-ateneo-seduccion-vs-coercion-sexual-donde-esta-el-limite/
LOCATION:Ateneo de Santander\, Calle Gómez Oreña 5\, Santander\, Cantabria\, 39003\, Spain
CATEGORIES:Cultura científica
ATTACH;FMTTYPE=image/webp:https://descubrecantabria.info/wp-content/uploads/2026/02/eventos-santander-ciencia-en-el-ateneo-seduccionvs_11zon.webp
END:VEVENT
END:VCALENDAR