BEGIN:VCALENDAR
VERSION:2.0
PRODID:-//Guía oficial de Cantabria | Turismo | Descubre Cantabria - ECPv6.15.20//NONSGML v1.0//EN
CALSCALE:GREGORIAN
METHOD:PUBLISH
X-WR-CALNAME:Guía oficial de Cantabria | Turismo | Descubre Cantabria
X-ORIGINAL-URL:https://descubrecantabria.info
X-WR-CALDESC:Eventos para Guía oficial de Cantabria | Turismo | Descubre Cantabria
REFRESH-INTERVAL;VALUE=DURATION:PT1H
X-Robots-Tag:noindex
X-PUBLISHED-TTL:PT1H
BEGIN:VTIMEZONE
TZID:Europe/Madrid
BEGIN:DAYLIGHT
TZOFFSETFROM:+0100
TZOFFSETTO:+0200
TZNAME:CEST
DTSTART:20240331T010000
END:DAYLIGHT
BEGIN:STANDARD
TZOFFSETFROM:+0200
TZOFFSETTO:+0100
TZNAME:CET
DTSTART:20241027T010000
END:STANDARD
BEGIN:DAYLIGHT
TZOFFSETFROM:+0100
TZOFFSETTO:+0200
TZNAME:CEST
DTSTART:20250330T010000
END:DAYLIGHT
BEGIN:STANDARD
TZOFFSETFROM:+0200
TZOFFSETTO:+0100
TZNAME:CET
DTSTART:20251026T010000
END:STANDARD
BEGIN:DAYLIGHT
TZOFFSETFROM:+0100
TZOFFSETTO:+0200
TZNAME:CEST
DTSTART:20260329T010000
END:DAYLIGHT
BEGIN:STANDARD
TZOFFSETFROM:+0200
TZOFFSETTO:+0100
TZNAME:CET
DTSTART:20261025T010000
END:STANDARD
END:VTIMEZONE
BEGIN:VEVENT
DTSTART;VALUE=DATE:20250810
DTEND;VALUE=DATE:20250811
DTSTAMP:20260425T122227
CREATED:20250718T130523Z
LAST-MODIFIED:20250718T130530Z
UID:264395-1754784000-1754870399@descubrecantabria.info
SUMMARY:Concierto de Aurora Beltrán en Laredo
DESCRIPTION:¿DE QUÉ TRATA “Concierto de Aurora Beltrán en Laredo”?\n\n\n\n\n\n\n\n\n\n\n\n  \nNOCHES PEJINAS CANTABRIA INFINITA 2025. \nCiclo de conciertos en la Atalaya de Laredo\, con aforo limitado y zona de hostelería. \nDentro del programa de Noches Pejinas Cantabria Infinita 2025\, durante todos los domingos consecutivos de julio y agosto La Atalaya de Laredo será el escenario de un ciclo musical ecléctico que contará con 8 artistas de diferentes estilos que ofrecerán sus conciertos en un formato íntimo de aforo reducido. Un lugar donde se podrá disfrutar no solo de la música sino también de un entorno natural privilegiado que ofrece una de las mejores puestas de sol del mundo. \nAURORA BELTRÁN \nAurora Beltrán es una cantante\, compositora y guitarrista española\, conocida por su contribución al rock en español y su liderazgo en la banda Tahúres Zurdos. Beltrán Inició su carrera en la banda Belladona\, con la que grabó dos discos en los años 80. Ya en 1987 formó Tahúres Zurdos\, grupo con el que alcanzó reconocimiento en los 90 dentro de la escena del rock en español. Con un sonido potente y letras introspectivas\, lograron éxitos como Tocaré\, Afiladas palabras y Azul. \nLa banda se disolvió en 2004\, tras 17 años de conciertos\, muy buenas críticas y 8 discos de estudio\, 1 en directo y diferentes recopilatorios. Entonces Aurora comenzó una carrera en solitario\, explorando un sonido más íntimo y acústico. En 2007 lanzó Clases de Baile\, su primer disco en solitario\, con colaboraciones de artistas como Enrique Bunbury y Loquillo\, álbum al que siguieron otros 2\, todos ellos autoproducidos. \nSu estilo combina rock clásico con influencias del folk y letras profundas\, lo que la ha convertido en una de las figuras más respetadas de la escena rockera en España y una de las voces femeninas más importantes del género. Ha participado en diversos proyectos y colaboraciones con músicos como Rosendo\, Luz Casal\, Mercedes Ferrer y Kutxi Romero. \n  \n\n\n\n\n\n\n\n\n\n\n\n\n\n\n\n\n\n\n¡Disfruta de los “Concierto de Aurora Beltrán en Laredo”!\nDescubre Cantabria informa de que los diferentes eventos publicados se ofrecen a modo informativo\, no siendo Descubre Cantabria responsable de los problemas o daños causados por erratas o incorrecciones de los mismos.
URL:https://descubrecantabria.info/evento/concierto-de-aurora-beltran-en-laredo/
LOCATION:La Atalaya Laredo\, Calle Menéndez Pelayo 54\, Laredo\, Cantabria\, 39770\, Spain
CATEGORIES:Música
ATTACH;FMTTYPE=image/webp:https://descubrecantabria.info/wp-content/uploads/2025/07/eventos-laredo-concierto-aurora-beltran_11zon.webp
END:VEVENT
END:VCALENDAR