BEGIN:VCALENDAR
VERSION:2.0
PRODID:-//Guía oficial de Cantabria | Turismo | Descubre Cantabria - ECPv6.15.20//NONSGML v1.0//EN
CALSCALE:GREGORIAN
METHOD:PUBLISH
X-WR-CALNAME:Guía oficial de Cantabria | Turismo | Descubre Cantabria
X-ORIGINAL-URL:https://descubrecantabria.info
X-WR-CALDESC:Eventos para Guía oficial de Cantabria | Turismo | Descubre Cantabria
REFRESH-INTERVAL;VALUE=DURATION:PT1H
X-Robots-Tag:noindex
X-PUBLISHED-TTL:PT1H
BEGIN:VTIMEZONE
TZID:Europe/Madrid
BEGIN:DAYLIGHT
TZOFFSETFROM:+0100
TZOFFSETTO:+0200
TZNAME:CEST
DTSTART:20250330T010000
END:DAYLIGHT
BEGIN:STANDARD
TZOFFSETFROM:+0200
TZOFFSETTO:+0100
TZNAME:CET
DTSTART:20251026T010000
END:STANDARD
BEGIN:DAYLIGHT
TZOFFSETFROM:+0100
TZOFFSETTO:+0200
TZNAME:CEST
DTSTART:20260329T010000
END:DAYLIGHT
BEGIN:STANDARD
TZOFFSETFROM:+0200
TZOFFSETTO:+0100
TZNAME:CET
DTSTART:20261025T010000
END:STANDARD
BEGIN:DAYLIGHT
TZOFFSETFROM:+0100
TZOFFSETTO:+0200
TZNAME:CEST
DTSTART:20270328T010000
END:DAYLIGHT
BEGIN:STANDARD
TZOFFSETFROM:+0200
TZOFFSETTO:+0100
TZNAME:CET
DTSTART:20271031T010000
END:STANDARD
END:VTIMEZONE
BEGIN:VEVENT
DTSTART;TZID=Europe/Madrid:20260404T100000
DTEND;TZID=Europe/Madrid:20260404T170000
DTSTAMP:20260421T114650
CREATED:20260317T112524Z
LAST-MODIFIED:20260317T112616Z
UID:24845695-1775296800-1775322000@descubrecantabria.info
SUMMARY:Concurso de caricos Secadura 2026
DESCRIPTION:¿DE QUÉ TRATA “Concurso de caricos Secadura 2026”?\n  \nCon la llegada de la Pascua 2026\, comienzan también nuestras queridas Fiestas del Pueblo de Secadura\, un momento para reunirnos\, disfrutar y mantener vivas nuestras tradiciones.  \nComo cada año\, arrancamos con uno de los eventos más esperados: el Concurso de Cáricos. \nInvitamos a todas las cuadrillas que quieran participar a que se vayan apuntando desde ya. Es una oportunidad perfecta para compartir risas\, competir con buen ambiente y demostrar quién tiene la mejor puntería y estrategia con los cáricos. \nFormad vuestra cuadrilla \, preparad vuestros mejores cáricos y animaos a participar en esta tradición que tanto nos gusta y que cada año reúne a gente de todas las edades. \nInscripciones abiertas. \nLas cuadrillas interesados pueden apuntarse con antelación para organizar el concurso y asegurar que todos tengamos un sitio en esta divertida competición. \nMuy pronto iremos anunciando fechas\, horarios y más actividades de las fiestas. \n¡Os esperamos para celebrar juntos la Pascua 2026 en Secadura como se merece! \nTradición\, diversión y buen ambiente para todo el pueblo. \n  \n¡Disfruta de los “Concurso de caricos Secadura 2026”!\nDescubre Cantabria informa de que los diferentes eventos publicados se ofrecen a modo informativo\, no siendo Descubre Cantabria responsable de los problemas o daños causados por erratas o incorrecciones de los mismos.
URL:https://descubrecantabria.info/evento/concurso-de-caricos-secadura-2026/
LOCATION:Polideportivo Secadura\, Barrio Secadura-la Sora\, s/n\, Voto\, Cantabria\, 39764\, Spain
CATEGORIES:Gastronomía
ATTACH;FMTTYPE=image/webp:https://descubrecantabria.info/wp-content/uploads/2026/03/eventos-cantabria-tradicional-concurso-de-caricos-en-secadura_11zon.webp
END:VEVENT
END:VCALENDAR