BEGIN:VCALENDAR
VERSION:2.0
PRODID:-//Guía oficial de Cantabria | Turismo | Descubre Cantabria - ECPv6.15.20//NONSGML v1.0//EN
CALSCALE:GREGORIAN
METHOD:PUBLISH
X-WR-CALNAME:Guía oficial de Cantabria | Turismo | Descubre Cantabria
X-ORIGINAL-URL:https://descubrecantabria.info
X-WR-CALDESC:Eventos para Guía oficial de Cantabria | Turismo | Descubre Cantabria
REFRESH-INTERVAL;VALUE=DURATION:PT1H
X-Robots-Tag:noindex
X-PUBLISHED-TTL:PT1H
BEGIN:VTIMEZONE
TZID:Europe/Madrid
BEGIN:DAYLIGHT
TZOFFSETFROM:+0100
TZOFFSETTO:+0200
TZNAME:CEST
DTSTART:20240331T010000
END:DAYLIGHT
BEGIN:STANDARD
TZOFFSETFROM:+0200
TZOFFSETTO:+0100
TZNAME:CET
DTSTART:20241027T010000
END:STANDARD
BEGIN:DAYLIGHT
TZOFFSETFROM:+0100
TZOFFSETTO:+0200
TZNAME:CEST
DTSTART:20250330T010000
END:DAYLIGHT
BEGIN:STANDARD
TZOFFSETFROM:+0200
TZOFFSETTO:+0100
TZNAME:CET
DTSTART:20251026T010000
END:STANDARD
BEGIN:DAYLIGHT
TZOFFSETFROM:+0100
TZOFFSETTO:+0200
TZNAME:CEST
DTSTART:20260329T010000
END:DAYLIGHT
BEGIN:STANDARD
TZOFFSETFROM:+0200
TZOFFSETTO:+0100
TZNAME:CET
DTSTART:20261025T010000
END:STANDARD
END:VTIMEZONE
BEGIN:VEVENT
DTSTART;TZID=Europe/Madrid:20250805T170000
DTEND;TZID=Europe/Madrid:20250805T190000
DTSTAMP:20260420T161421
CREATED:20250717T101432Z
LAST-MODIFIED:20250717T101440Z
UID:264236-1754413200-1754420400@descubrecantabria.info
SUMMARY:Conociendo el paisaje a través de los fósiles
DESCRIPTION:¿DE QUÉ TRATA “Conociendo el paisaje a través de los fósiles”?\n\n\n\n\n\n\n\n\n\n\n\n  \nEl martes 5 de agosto de 2025 se realizarán en la Casa de Cultura dos talleres gratuitos “Conociendo el paisaje a través de los fósiles”\, destinados a niños y jóvenes de entre 8 y 16 años. \n\nHabrá dos sesiones: la primera de 11\,00 a 13\,00 h.\, y la segunda de 17\,00 a 19\,00 h.\nEsta iniciativa\, impartida por el experto Diego de Vallejo\, se desarrolla gracias al Grupo de Acción Costera Cantabria Oriental y la Consejería de Fomento\, con la colaboración del Ayuntamiento de Santoña. \n\nLas inscripciones se realizarán en la Casa de Cultura de Santoña. El número para atención telefónica es el 942 661 286\, y el correo electrónico casadecultura@santona.es Las plazas están limitadas a 20 asistentes por taller. \n  \n\n\n\n\n\n\n\n\n\n\n\n\n\n\n\n\n\n\n¡Disfruta de los “Conociendo el paisaje a través de los fósiles”!\nDescubre Cantabria informa de que los diferentes eventos publicados se ofrecen a modo informativo\, no siendo Descubre Cantabria responsable de los problemas o daños causados por erratas o incorrecciones de los mismos.
URL:https://descubrecantabria.info/evento/conociendo-el-paisaje-a-traves-de-los-fosiles/
LOCATION:Casa de Cultura de Santoña\, Paseo Camilo José Cela s/n\, Santoña\, Cantabria\, 39740\, Spain
CATEGORIES:Cultura científica
ATTACH;FMTTYPE=image/webp:https://descubrecantabria.info/wp-content/uploads/2025/07/eventos-santona-conociendo-el-paisaje-a-traves-de-los-fosiles_11zon.webp
END:VEVENT
END:VCALENDAR