BEGIN:VCALENDAR
VERSION:2.0
PRODID:-//Guía oficial de Cantabria | Turismo | Descubre Cantabria - ECPv6.15.20//NONSGML v1.0//EN
CALSCALE:GREGORIAN
METHOD:PUBLISH
X-WR-CALNAME:Guía oficial de Cantabria | Turismo | Descubre Cantabria
X-ORIGINAL-URL:https://descubrecantabria.info
X-WR-CALDESC:Eventos para Guía oficial de Cantabria | Turismo | Descubre Cantabria
REFRESH-INTERVAL;VALUE=DURATION:PT1H
X-Robots-Tag:noindex
X-PUBLISHED-TTL:PT1H
BEGIN:VTIMEZONE
TZID:Europe/Madrid
BEGIN:DAYLIGHT
TZOFFSETFROM:+0100
TZOFFSETTO:+0200
TZNAME:CEST
DTSTART:20250330T010000
END:DAYLIGHT
BEGIN:STANDARD
TZOFFSETFROM:+0200
TZOFFSETTO:+0100
TZNAME:CET
DTSTART:20251026T010000
END:STANDARD
BEGIN:DAYLIGHT
TZOFFSETFROM:+0100
TZOFFSETTO:+0200
TZNAME:CEST
DTSTART:20260329T010000
END:DAYLIGHT
BEGIN:STANDARD
TZOFFSETFROM:+0200
TZOFFSETTO:+0100
TZNAME:CET
DTSTART:20261025T010000
END:STANDARD
BEGIN:DAYLIGHT
TZOFFSETFROM:+0100
TZOFFSETTO:+0200
TZNAME:CEST
DTSTART:20270328T010000
END:DAYLIGHT
BEGIN:STANDARD
TZOFFSETFROM:+0200
TZOFFSETTO:+0100
TZNAME:CET
DTSTART:20271031T010000
END:STANDARD
END:VTIMEZONE
BEGIN:VEVENT
DTSTART;TZID=Europe/Madrid:20260404T103000
DTEND;TZID=Europe/Madrid:20260404T170000
DTSTAMP:20260423T024222
CREATED:20260308T102534Z
LAST-MODIFIED:20260308T102546Z
UID:282134-1775298600-1775322000@descubrecantabria.info
SUMMARY:Construcción de cajas nido en Pendes 2026
DESCRIPTION:¿DE QUÉ TRATA “Construcción de cajas nido en Pendes 2026”?\n  \nLa actividad tendrá una primera parte teórica en la que se abordarán los aspectos relativos a la importancia y la necesidad de las cajas nido\, los tipos y las especies a las que están dirigidas\, así como los beneficios que estas especies generan en el entorno. \nA continuación\, se llevará a cabo la construcción de cada caja nido siguiendo las pautas de los monitores y su posterior colocación en el entorno por parte de los participantes. \nRecomendaciones: Imprescindible inscripción previa. Ropa y calzado adecuado a las condiciones meteorológicas y actividades en la naturaleza. \n  \n¡Disfruta de los “Construcción de cajas nido en Pendes 2026”!\nDescubre Cantabria informa de que los diferentes eventos publicados se ofrecen a modo informativo\, no siendo Descubre Cantabria responsable de los problemas o daños causados por erratas o incorrecciones de los mismos.
URL:https://descubrecantabria.info/evento/construccion-de-cajas-nido-en-pendes-2026/
LOCATION:Aparcamiento Pendes\, Calle Celestino Arenal\, 26\, Pendes\, Cantabria\, 39583\, Spain
CATEGORIES:Talleres
ATTACH;FMTTYPE=image/webp:https://descubrecantabria.info/wp-content/uploads/2026/03/eventos-en-cantabria-construccion-de-cajas-nido-en-pendes_11zon.webp
END:VEVENT
END:VCALENDAR