BEGIN:VCALENDAR
VERSION:2.0
PRODID:-//Guía oficial de Cantabria | Turismo | Descubre Cantabria - ECPv6.15.20//NONSGML v1.0//EN
CALSCALE:GREGORIAN
METHOD:PUBLISH
X-WR-CALNAME:Guía oficial de Cantabria | Turismo | Descubre Cantabria
X-ORIGINAL-URL:https://descubrecantabria.info
X-WR-CALDESC:Eventos para Guía oficial de Cantabria | Turismo | Descubre Cantabria
REFRESH-INTERVAL;VALUE=DURATION:PT1H
X-Robots-Tag:noindex
X-PUBLISHED-TTL:PT1H
BEGIN:VTIMEZONE
TZID:Europe/Madrid
BEGIN:DAYLIGHT
TZOFFSETFROM:+0100
TZOFFSETTO:+0200
TZNAME:CEST
DTSTART:20250330T010000
END:DAYLIGHT
BEGIN:STANDARD
TZOFFSETFROM:+0200
TZOFFSETTO:+0100
TZNAME:CET
DTSTART:20251026T010000
END:STANDARD
BEGIN:DAYLIGHT
TZOFFSETFROM:+0100
TZOFFSETTO:+0200
TZNAME:CEST
DTSTART:20260329T010000
END:DAYLIGHT
BEGIN:STANDARD
TZOFFSETFROM:+0200
TZOFFSETTO:+0100
TZNAME:CET
DTSTART:20261025T010000
END:STANDARD
BEGIN:DAYLIGHT
TZOFFSETFROM:+0100
TZOFFSETTO:+0200
TZNAME:CEST
DTSTART:20270328T010000
END:DAYLIGHT
BEGIN:STANDARD
TZOFFSETFROM:+0200
TZOFFSETTO:+0100
TZNAME:CET
DTSTART:20271031T010000
END:STANDARD
END:VTIMEZONE
BEGIN:VEVENT
DTSTART;TZID=Europe/Madrid:20260326T183000
DTEND;TZID=Europe/Madrid:20260326T183000
DTSTAMP:20260423T133849
CREATED:20260309T140130Z
LAST-MODIFIED:20260309T140203Z
UID:282305-1774549800-1774549800@descubrecantabria.info
SUMMARY:Construir desde lo cotidiano con Israel Ruiz Salmón
DESCRIPTION:¿DE QUÉ TRATA “Construir desde lo cotidiano con Israel Ruiz Salmón”?\n  \nEl Ágora Solidaria Cultura y Memoria Luis Toca acoge la charla “Construir desde lo cotidiano. La objetoteca como herramienta práctica”\, a cargo de Israel Ruiz Salmón\, primer teniente alcalde del Ayuntamiento de Riotuerto. \n¿Recuerdas cuando necesitaste un carrito de bebé solo durante unos meses? ¿Cuántas veces has usado realmente el taladro que guardas en el garaje? ¿Y esas muletas compradas para dos semanas\, los esquís prestados o la vajilla que faltaba para una cena puntual? \nLa Objetoteca nace precisamente para dar respuesta a estas situaciones cotidianas. Se trata de un servicio público de préstamo de utensilios y herramientas de uso temporal\, ya en funcionamiento en Riotuerto\, cuyo objetivo es reducir el consumo innecesario\, evitar la acumulación de objetos infrautilizados y garantizar el acceso a bienes básicos a toda la población\, independientemente de su capacidad económica. \nIsrael Ruiz Salmón es ingeniero químico y doctor en Ciencias de la Ingeniería y la Tecnología. Actualmente es profesor en la Universidad de Deusto\, donde investiga en los ámbitos de la sostenibilidad\, la economía circular y el análisis de ciclo de vida. En el ámbito político e institucional\, es coordinador de Izquierda Unida Cantabria y primer teniente alcalde del Ayuntamiento de Riotuerto\, además de concejal de Hacienda y Actividad Económica\, Turismo\, Medio Ambiente\, Movilidad y Participación.  \n  \n¡Disfruta de los “Construir desde lo cotidiano con Israel Ruiz Salmón”!\nDescubre Cantabria informa de que los diferentes eventos publicados se ofrecen a modo informativo\, no siendo Descubre Cantabria responsable de los problemas o daños causados por erratas o incorrecciones de los mismos.
URL:https://descubrecantabria.info/evento/construir-desde-lo-cotidiano-con-israel-ruiz-salmon/
LOCATION:Agora Solidaria Cultura y Memoria Luis Toca\, Calle Juan XXIII s/n\, Santander\, Cantabria\, 39010\, Spain
CATEGORIES:Talleres
ATTACH;FMTTYPE=image/webp:https://descubrecantabria.info/wp-content/uploads/2026/03/eventos-santander-construir-desde-lo-cotidiano_11zon.webp
END:VEVENT
END:VCALENDAR