BEGIN:VCALENDAR
VERSION:2.0
PRODID:-//Guía oficial de Cantabria | Turismo | Descubre Cantabria - ECPv6.15.20//NONSGML v1.0//EN
CALSCALE:GREGORIAN
METHOD:PUBLISH
X-WR-CALNAME:Guía oficial de Cantabria | Turismo | Descubre Cantabria
X-ORIGINAL-URL:https://descubrecantabria.info
X-WR-CALDESC:Eventos para Guía oficial de Cantabria | Turismo | Descubre Cantabria
REFRESH-INTERVAL;VALUE=DURATION:PT1H
X-Robots-Tag:noindex
X-PUBLISHED-TTL:PT1H
BEGIN:VTIMEZONE
TZID:Europe/Madrid
BEGIN:DAYLIGHT
TZOFFSETFROM:+0100
TZOFFSETTO:+0200
TZNAME:CEST
DTSTART:20250330T010000
END:DAYLIGHT
BEGIN:STANDARD
TZOFFSETFROM:+0200
TZOFFSETTO:+0100
TZNAME:CET
DTSTART:20251026T010000
END:STANDARD
BEGIN:DAYLIGHT
TZOFFSETFROM:+0100
TZOFFSETTO:+0200
TZNAME:CEST
DTSTART:20260329T010000
END:DAYLIGHT
BEGIN:STANDARD
TZOFFSETFROM:+0200
TZOFFSETTO:+0100
TZNAME:CET
DTSTART:20261025T010000
END:STANDARD
BEGIN:DAYLIGHT
TZOFFSETFROM:+0100
TZOFFSETTO:+0200
TZNAME:CEST
DTSTART:20270328T010000
END:DAYLIGHT
BEGIN:STANDARD
TZOFFSETFROM:+0200
TZOFFSETTO:+0100
TZNAME:CET
DTSTART:20271031T010000
END:STANDARD
END:VTIMEZONE
BEGIN:VEVENT
DTSTART;TZID=Europe/Madrid:20260314T100000
DTEND;TZID=Europe/Madrid:20260314T170000
DTSTAMP:20260423T163429
CREATED:20260304T172532Z
LAST-MODIFIED:20260304T172532Z
UID:281576-1773482400-1773507600@descubrecantabria.info
SUMMARY:Cuaderno de ideas taller de encuadernación
DESCRIPTION:¿DE QUÉ TRATA “Cuaderno de ideas taller de encuadernación”?\n  \nPartiendo de un cuerpo de hojas ya preparado y cosido\, los participantes aprenderán a forrar tapas y lomo con papel y tela. Conocerán los elementos que intervienen en la unión de dichas tapas y lomo con el cuerpo de hojas\, así como la realización de esta tarea. Al finalizar el taller cada participante habrá completado su cuaderno\, con tan buen acabado\, como si lo hubieran comprado. \nImpartido por Montserrat Muñoz Muñoz en Creando Libros (Calle José hierro 28\, bajo\, Santander)\, el 14 de marzo de 10 a 14 h. \nPara más información: \n601 301 864 / info@creandolibros.es / https://creandolibros.es/encuadernacion-y-acuarela-en-santander-2/cuaderno-de-ideas/  \n  \n¡Disfruta de los “Cuaderno de ideas taller de encuadernación”!\nDescubre Cantabria informa de que los diferentes eventos publicados se ofrecen a modo informativo\, no siendo Descubre Cantabria responsable de los problemas o daños causados por erratas o incorrecciones de los mismos.
URL:https://descubrecantabria.info/evento/cuaderno-de-ideas-taller-de-encuadernacion/
LOCATION:Creando Libros\, Calle Camilo José Vega\, 28\, Santander\, Cantabria\, 39007\, Spain
CATEGORIES:Talleres
ATTACH;FMTTYPE=image/webp:https://descubrecantabria.info/wp-content/uploads/2026/03/eventos-santander-cuaderno-de-ideas_11zon.webp
END:VEVENT
END:VCALENDAR