BEGIN:VCALENDAR
VERSION:2.0
PRODID:-//Guía oficial de Cantabria | Turismo | Descubre Cantabria - ECPv6.15.20//NONSGML v1.0//EN
CALSCALE:GREGORIAN
METHOD:PUBLISH
X-WR-CALNAME:Guía oficial de Cantabria | Turismo | Descubre Cantabria
X-ORIGINAL-URL:https://descubrecantabria.info
X-WR-CALDESC:Eventos para Guía oficial de Cantabria | Turismo | Descubre Cantabria
REFRESH-INTERVAL;VALUE=DURATION:PT1H
X-Robots-Tag:noindex
X-PUBLISHED-TTL:PT1H
BEGIN:VTIMEZONE
TZID:Europe/Madrid
BEGIN:DAYLIGHT
TZOFFSETFROM:+0100
TZOFFSETTO:+0200
TZNAME:CEST
DTSTART:20250330T010000
END:DAYLIGHT
BEGIN:STANDARD
TZOFFSETFROM:+0200
TZOFFSETTO:+0100
TZNAME:CET
DTSTART:20251026T010000
END:STANDARD
BEGIN:DAYLIGHT
TZOFFSETFROM:+0100
TZOFFSETTO:+0200
TZNAME:CEST
DTSTART:20260329T010000
END:DAYLIGHT
BEGIN:STANDARD
TZOFFSETFROM:+0200
TZOFFSETTO:+0100
TZNAME:CET
DTSTART:20261025T010000
END:STANDARD
BEGIN:DAYLIGHT
TZOFFSETFROM:+0100
TZOFFSETTO:+0200
TZNAME:CEST
DTSTART:20270328T010000
END:DAYLIGHT
BEGIN:STANDARD
TZOFFSETFROM:+0200
TZOFFSETTO:+0100
TZNAME:CET
DTSTART:20271031T010000
END:STANDARD
END:VTIMEZONE
BEGIN:VEVENT
DTSTART;TZID=Europe/Madrid:20260415T183000
DTEND;TZID=Europe/Madrid:20260415T183000
DTSTAMP:20260423T040714
CREATED:20260219T171653Z
LAST-MODIFIED:20260219T171827Z
UID:30001672-1776277800-1776277800@descubrecantabria.info
SUMMARY:Curso de historia de Torrelavega
DESCRIPTION:¿DE QUÉ TRATA “Curso de historia de Torrelavega”?\n  \nConoce la historia de Torrelavega de la mano de Marcos Pereda\, profesor del centro asociado de la UNED en Cantabria y escritor. Descubre la verdadera historia de Torrelavega\, puedes solicitar información llamando al 942 813 008. \n  \n¡Disfruta de los “Curso de historia de Torrelavega”!\n  \nEncuentra todos los eventos de Torrelavega aquí. \nEncuentra todos los talleres y formaciones de Cantabria aquí. \nDescubre Cantabria informa de que los diferentes eventos publicados se ofrecen a modo informativo\, no siendo Descubre Cantabria responsable de los problemas o daños causados por erratas o incorrecciones de los mismos.
URL:https://descubrecantabria.info/evento/curso-de-historia-de-torrelavega/2026-04-15/
LOCATION:Sala de Exposiciones Mauro Muriedas\, Calle Pedro Alonso Revuelta 5\, Torrelavega\, Cantabria\, 39300\, Spain
CATEGORIES:Talleres
ATTACH;FMTTYPE=image/webp:https://descubrecantabria.info/wp-content/uploads/2026/02/eventos-torrelavega-curso-de-historia-de-torrelavega-2026_11zon.webp
END:VEVENT
END:VCALENDAR