BEGIN:VCALENDAR
VERSION:2.0
PRODID:-//Guía oficial de Cantabria | Turismo | Descubre Cantabria - ECPv6.15.20//NONSGML v1.0//EN
CALSCALE:GREGORIAN
METHOD:PUBLISH
X-WR-CALNAME:Guía oficial de Cantabria | Turismo | Descubre Cantabria
X-ORIGINAL-URL:https://descubrecantabria.info
X-WR-CALDESC:Eventos para Guía oficial de Cantabria | Turismo | Descubre Cantabria
REFRESH-INTERVAL;VALUE=DURATION:PT1H
X-Robots-Tag:noindex
X-PUBLISHED-TTL:PT1H
BEGIN:VTIMEZONE
TZID:Europe/Madrid
BEGIN:DAYLIGHT
TZOFFSETFROM:+0100
TZOFFSETTO:+0200
TZNAME:CEST
DTSTART:20250330T010000
END:DAYLIGHT
BEGIN:STANDARD
TZOFFSETFROM:+0200
TZOFFSETTO:+0100
TZNAME:CET
DTSTART:20251026T010000
END:STANDARD
BEGIN:DAYLIGHT
TZOFFSETFROM:+0100
TZOFFSETTO:+0200
TZNAME:CEST
DTSTART:20260329T010000
END:DAYLIGHT
BEGIN:STANDARD
TZOFFSETFROM:+0200
TZOFFSETTO:+0100
TZNAME:CET
DTSTART:20261025T010000
END:STANDARD
BEGIN:DAYLIGHT
TZOFFSETFROM:+0100
TZOFFSETTO:+0200
TZNAME:CEST
DTSTART:20270328T010000
END:DAYLIGHT
BEGIN:STANDARD
TZOFFSETFROM:+0200
TZOFFSETTO:+0100
TZNAME:CET
DTSTART:20271031T010000
END:STANDARD
END:VTIMEZONE
BEGIN:VEVENT
DTSTART;TZID=Europe/Madrid:20260501T100000
DTEND;TZID=Europe/Madrid:20260501T170000
DTSTAMP:20260422T222230
CREATED:20260331T165148Z
LAST-MODIFIED:20260331T165201Z
UID:24847584-1777629600-1777654800@descubrecantabria.info
SUMMARY:Curso teórico-práctico de herpetología en Reinosa
DESCRIPTION:¿DE QUÉ TRATA “Curso teórico-práctico de herpetología en Reinosa”?\n  \nLa Asociación Herpetológica Timón impartirá en Reinosa un curso teórico-práctico dedicado al estudio de anfibios y reptiles\, organizado en colaboración con la Concejalía de Medio Ambiente del Ayuntamiento. \nDurante tres jornadas\, las personas participantes aprenderán nociones básicas de herpetología\, identificación de especies ibéricas\, técnicas de muestreo y conservación\, además de realizar salidas de campo guiadas para observar fauna en su hábitat natural.  \nUna actividad dirigida tanto a personas aficionadas como a quienes quieran iniciarse en el conocimiento y protección de la biodiversidad. \nPlazas limitadas e inscripción abierta.  \nInscripciones: aht.timon@gmail.com \n  \n¡Disfruta de los “Curso teórico-práctico de herpetología en Reinosa”!\nDescubre Cantabria informa de que los diferentes eventos publicados se ofrecen a modo informativo\, no siendo Descubre Cantabria responsable de los problemas o daños causados por erratas o incorrecciones de los mismos.
URL:https://descubrecantabria.info/evento/curso-teorico-practico-de-herpetologia-en-reinosa/
LOCATION:La Casona Reinosa\, Avenida Puente de Carlos III\, 23\, Reinosa\, Cantabria\, 39200\, Spain
CATEGORIES:Talleres
ATTACH;FMTTYPE=image/webp:https://descubrecantabria.info/wp-content/uploads/2026/03/eventos-cantabria-curso-teorico-practico-de-herpetologia_11zon.webp
END:VEVENT
END:VCALENDAR