BEGIN:VCALENDAR
VERSION:2.0
PRODID:-//Guía oficial de Cantabria | Turismo | Descubre Cantabria - ECPv6.15.20//NONSGML v1.0//EN
CALSCALE:GREGORIAN
METHOD:PUBLISH
X-WR-CALNAME:Guía oficial de Cantabria | Turismo | Descubre Cantabria
X-ORIGINAL-URL:https://descubrecantabria.info
X-WR-CALDESC:Eventos para Guía oficial de Cantabria | Turismo | Descubre Cantabria
REFRESH-INTERVAL;VALUE=DURATION:PT1H
X-Robots-Tag:noindex
X-PUBLISHED-TTL:PT1H
BEGIN:VTIMEZONE
TZID:Europe/Madrid
BEGIN:DAYLIGHT
TZOFFSETFROM:+0100
TZOFFSETTO:+0200
TZNAME:CEST
DTSTART:20250330T010000
END:DAYLIGHT
BEGIN:STANDARD
TZOFFSETFROM:+0200
TZOFFSETTO:+0100
TZNAME:CET
DTSTART:20251026T010000
END:STANDARD
BEGIN:DAYLIGHT
TZOFFSETFROM:+0100
TZOFFSETTO:+0200
TZNAME:CEST
DTSTART:20260329T010000
END:DAYLIGHT
BEGIN:STANDARD
TZOFFSETFROM:+0200
TZOFFSETTO:+0100
TZNAME:CET
DTSTART:20261025T010000
END:STANDARD
BEGIN:DAYLIGHT
TZOFFSETFROM:+0100
TZOFFSETTO:+0200
TZNAME:CEST
DTSTART:20270328T010000
END:DAYLIGHT
BEGIN:STANDARD
TZOFFSETFROM:+0200
TZOFFSETTO:+0100
TZNAME:CET
DTSTART:20271031T010000
END:STANDARD
END:VTIMEZONE
BEGIN:VEVENT
DTSTART;TZID=Europe/Madrid:20260510T190000
DTEND;TZID=Europe/Madrid:20260510T210000
DTSTAMP:20260422T235614
CREATED:20260226T090414Z
LAST-MODIFIED:20260226T090425Z
UID:30002735-1778439600-1778446800@descubrecantabria.info
SUMMARY:Domingo de baile Pontejos 2026
DESCRIPTION:¿DE QUÉ TRATA “Domingo de baile Pontejos 2026”?\n  \n¡Únete a los Domingos de Baile en el Centro Cultural de Pontejos! Disfruta de una tarde vibrante llena de música y alegría en un ambiente acogedor. Ven a bailar\, relajarte y pasar un rato increíble con amigos y vecinos. \n  \n¡Disfruta de los “Domingo de baile Pontejos 2026!\n  \nEncuentra todos los eventos de Marina de Cudeyo aquí. \nDescubre Cantabria informa de que los diferentes eventos publicados se ofrecen a modo informativo\, no siendo Descubre Cantabria responsable de los problemas o daños causados por erratas o incorrecciones de los mismos.
URL:https://descubrecantabria.info/evento/domingo-de-baile-pontejos-2026/2026-05-10/
LOCATION:Centro Cultural Pontejos\, Barrio el río 190\, Pontejos\, Cantabria\, 39618\, Spain
CATEGORIES:Talleres
ATTACH;FMTTYPE=image/webp:https://descubrecantabria.info/wp-content/uploads/2026/02/eventos-marina-de-cudeyo-domingos-de-baile-2026_11zon.webp
END:VEVENT
END:VCALENDAR