BEGIN:VCALENDAR
VERSION:2.0
PRODID:-//Guía oficial de Cantabria | Turismo | Descubre Cantabria - ECPv6.15.20//NONSGML v1.0//EN
CALSCALE:GREGORIAN
METHOD:PUBLISH
X-WR-CALNAME:Guía oficial de Cantabria | Turismo | Descubre Cantabria
X-ORIGINAL-URL:https://descubrecantabria.info
X-WR-CALDESC:Eventos para Guía oficial de Cantabria | Turismo | Descubre Cantabria
REFRESH-INTERVAL;VALUE=DURATION:PT1H
X-Robots-Tag:noindex
X-PUBLISHED-TTL:PT1H
BEGIN:VTIMEZONE
TZID:Europe/Madrid
BEGIN:DAYLIGHT
TZOFFSETFROM:+0100
TZOFFSETTO:+0200
TZNAME:CEST
DTSTART:20250330T010000
END:DAYLIGHT
BEGIN:STANDARD
TZOFFSETFROM:+0200
TZOFFSETTO:+0100
TZNAME:CET
DTSTART:20251026T010000
END:STANDARD
BEGIN:DAYLIGHT
TZOFFSETFROM:+0100
TZOFFSETTO:+0200
TZNAME:CEST
DTSTART:20260329T010000
END:DAYLIGHT
BEGIN:STANDARD
TZOFFSETFROM:+0200
TZOFFSETTO:+0100
TZNAME:CET
DTSTART:20261025T010000
END:STANDARD
BEGIN:DAYLIGHT
TZOFFSETFROM:+0100
TZOFFSETTO:+0200
TZNAME:CEST
DTSTART:20270328T010000
END:DAYLIGHT
BEGIN:STANDARD
TZOFFSETFROM:+0200
TZOFFSETTO:+0100
TZNAME:CET
DTSTART:20271031T010000
END:STANDARD
END:VTIMEZONE
BEGIN:VEVENT
DTSTART;TZID=Europe/Madrid:20260426T113000
DTEND;TZID=Europe/Madrid:20260426T170000
DTSTAMP:20260419T193310
CREATED:20260413T152556Z
LAST-MODIFIED:20260413T152720Z
UID:24848652-1777203000-1777222800@descubrecantabria.info
SUMMARY:Domingo de cuento | Con frío y calor leemos a diario con Miru
DESCRIPTION:¿DE QUÉ TRATA “Domingo de cuento | Con frío y calor leemos a diario con Miru”?\n  \n11:30 1ª Sesión para niños/as de 3 a 5 años \n12:30 2ª Sesión para niños/as a partir de 6 años. \nEn la Biblioteca infantil. Entrada libre hasta completar aforo. \n  \n¡Disfruta de los “Domingo de cuento | Con frío y calor leemos a diario con Miru”!\nDescubre Cantabria informa de que los diferentes eventos publicados se ofrecen a modo informativo\, no siendo Descubre Cantabria responsable de los problemas o daños causados por erratas o incorrecciones de los mismos.
URL:https://descubrecantabria.info/evento/domingo-de-cuento-con-frio-y-calor-leemos-a-diario-con-miru/
LOCATION:Centro Cultural Eladio Laredo (Edificio Royal)\, Calle Jardines\, 3\, Castro Urdiales\, Cantabria\, 39700\, Spain
CATEGORIES:Infantil,Literatura
ATTACH;FMTTYPE=image/webp:https://descubrecantabria.info/wp-content/uploads/2026/04/eventos-cantabria-con-frio-y-calor-leemos-a-diario-con-miru_11zon.webp
END:VEVENT
END:VCALENDAR