BEGIN:VCALENDAR
VERSION:2.0
PRODID:-//Guía oficial de Cantabria | Turismo | Descubre Cantabria - ECPv6.15.20//NONSGML v1.0//EN
CALSCALE:GREGORIAN
METHOD:PUBLISH
X-WR-CALNAME:Guía oficial de Cantabria | Turismo | Descubre Cantabria
X-ORIGINAL-URL:https://descubrecantabria.info
X-WR-CALDESC:Eventos para Guía oficial de Cantabria | Turismo | Descubre Cantabria
REFRESH-INTERVAL;VALUE=DURATION:PT1H
X-Robots-Tag:noindex
X-PUBLISHED-TTL:PT1H
BEGIN:VTIMEZONE
TZID:Europe/Madrid
BEGIN:DAYLIGHT
TZOFFSETFROM:+0100
TZOFFSETTO:+0200
TZNAME:CEST
DTSTART:20250330T010000
END:DAYLIGHT
BEGIN:STANDARD
TZOFFSETFROM:+0200
TZOFFSETTO:+0100
TZNAME:CET
DTSTART:20251026T010000
END:STANDARD
BEGIN:DAYLIGHT
TZOFFSETFROM:+0100
TZOFFSETTO:+0200
TZNAME:CEST
DTSTART:20260329T010000
END:DAYLIGHT
BEGIN:STANDARD
TZOFFSETFROM:+0200
TZOFFSETTO:+0100
TZNAME:CET
DTSTART:20261025T010000
END:STANDARD
BEGIN:DAYLIGHT
TZOFFSETFROM:+0100
TZOFFSETTO:+0200
TZNAME:CEST
DTSTART:20270328T010000
END:DAYLIGHT
BEGIN:STANDARD
TZOFFSETFROM:+0200
TZOFFSETTO:+0100
TZNAME:CET
DTSTART:20271031T010000
END:STANDARD
END:VTIMEZONE
BEGIN:VEVENT
DTSTART;TZID=Europe/Madrid:20260224T193000
DTEND;TZID=Europe/Madrid:20260224T193000
DTSTAMP:20260425T144631
CREATED:20260209T163017Z
LAST-MODIFIED:20260209T163025Z
UID:278480-1771961400-1771961400@descubrecantabria.info
SUMMARY:"¿El derecho a la educación para todxs sin excepción? Una cuestión que aún debe resonar" con Alicia Vinatea
DESCRIPTION:¿DE QUÉ TRATA “”¿El derecho a la educación para todxs sin excepción? Una cuestión que aún debe resonar” con Alicia Vinatea”?\n  \n\n\n\n\n\n\nLa Vorágine sigue desgranando espacios para el análisis dentro del ciclo (In)capaces. Memoria\, justicia y disidencias en la discapacidad intelectual. En esta ocasión continuarán hablando de educación\, del propio derecho a la educación y de la forma en la que se está implementando (o no) este derecho. \n\n\n\n\n\n\n  \n¡Disfruta de los “”¿El derecho a la educación para todxs sin excepción? Una cuestión que aún debe resonar” con Alicia Vinatea”!\nDescubre Cantabria informa de que los diferentes eventos publicados se ofrecen a modo informativo\, no siendo Descubre Cantabria responsable de los problemas o daños causados por erratas o incorrecciones de los mismos.
URL:https://descubrecantabria.info/evento/el-derecho-a-la-educacion-para-todxs-sin-excepcion-una-cuestion-que-aun-debe-resonar-con-alicia-vinatea/
LOCATION:Librería La Vorágine\, Calle Cardenal Cisneros 69\, Santander\, Cantabria\, 39007\, Spain
CATEGORIES:Talleres
ATTACH;FMTTYPE=image/webp:https://descubrecantabria.info/wp-content/uploads/2026/02/eventos-santander-el-derecho-a-la-educacion-para-todos_11zon-1.webp
END:VEVENT
END:VCALENDAR