BEGIN:VCALENDAR
VERSION:2.0
PRODID:-//Guía oficial de Cantabria | Turismo | Descubre Cantabria - ECPv6.15.20//NONSGML v1.0//EN
CALSCALE:GREGORIAN
METHOD:PUBLISH
X-WR-CALNAME:Guía oficial de Cantabria | Turismo | Descubre Cantabria
X-ORIGINAL-URL:https://descubrecantabria.info
X-WR-CALDESC:Eventos para Guía oficial de Cantabria | Turismo | Descubre Cantabria
REFRESH-INTERVAL;VALUE=DURATION:PT1H
X-Robots-Tag:noindex
X-PUBLISHED-TTL:PT1H
BEGIN:VTIMEZONE
TZID:Europe/Madrid
BEGIN:DAYLIGHT
TZOFFSETFROM:+0100
TZOFFSETTO:+0200
TZNAME:CEST
DTSTART:20250330T010000
END:DAYLIGHT
BEGIN:STANDARD
TZOFFSETFROM:+0200
TZOFFSETTO:+0100
TZNAME:CET
DTSTART:20251026T010000
END:STANDARD
BEGIN:DAYLIGHT
TZOFFSETFROM:+0100
TZOFFSETTO:+0200
TZNAME:CEST
DTSTART:20260329T010000
END:DAYLIGHT
BEGIN:STANDARD
TZOFFSETFROM:+0200
TZOFFSETTO:+0100
TZNAME:CET
DTSTART:20261025T010000
END:STANDARD
BEGIN:DAYLIGHT
TZOFFSETFROM:+0100
TZOFFSETTO:+0200
TZNAME:CEST
DTSTART:20270328T010000
END:DAYLIGHT
BEGIN:STANDARD
TZOFFSETFROM:+0200
TZOFFSETTO:+0100
TZNAME:CET
DTSTART:20271031T010000
END:STANDARD
END:VTIMEZONE
BEGIN:VEVENT
DTSTART;TZID=Europe/Madrid:20260313T180000
DTEND;TZID=Europe/Madrid:20260313T180000
DTSTAMP:20260423T100811
CREATED:20260210T144946Z
LAST-MODIFIED:20260210T145004Z
UID:278850-1773424800-1773424800@descubrecantabria.info
SUMMARY:Encuentro de rol en vivo Santander 2026
DESCRIPTION:¿DE QUÉ TRATA “Encuentro de rol en vivo Santander 2026”?\n  \nEspacio Joven ha dado a conocer la nueva programación de actividades para los meses de febrero y marzo\, una oferta de actividades gratuitas que responde directamente a las demandas planteadas por la población joven del municipio y que se consolida como una alternativa de ocio saludable. \nEl viernes 13 de marzo\, en horario de 18:00 a 20:00h. en Espacio Joven (C/ Cuesta del Hospital 10\, bajo) tendrá lugar este encuentro de rol en vivo. \nEn esta modalidad de juego de rol\, los participantes interpretan físicamente a sus personajes\, pero en un espacio limitado y con recursos minimalistas. A diferencia del rol de mesa\, donde se juega sentados y se usa la imaginación con apoyo de hojas de personaje y dados\, el rol en vivo en sala implica actuar directamente las acciones y diálogos de los personajes dentro de una historia previamente diseñada. \nVa dirigido a jóvenes entre 15-30 años y está abierto a todos los niveles ya que pueden participar tanto jóvenes con experiencia en este tipo de juegos\, como neófitos\, dado que habrá monitores que les orientarán. \nEl evento está gestionado por la Asociación Cultural Minas Tirith. \n  \n¡Disfruta de los “Encuentro de rol en vivo Santander 2026”!\nDescubre Cantabria informa de que los diferentes eventos publicados se ofrecen a modo informativo\, no siendo Descubre Cantabria responsable de los problemas o daños causados por erratas o incorrecciones de los mismos.
URL:https://descubrecantabria.info/evento/encuentro-de-rol-en-vivo-santander-2026/
LOCATION:Espacio Joven Santander\, Calle Cuesta del Hospital 10\, Santander\, Cantabria\, 39008\, Spain
CATEGORIES:Talleres
ATTACH;FMTTYPE=image/webp:https://descubrecantabria.info/wp-content/uploads/2026/02/eventos-santander-encuentro-de-rol_11zon.webp
END:VEVENT
END:VCALENDAR