BEGIN:VCALENDAR
VERSION:2.0
PRODID:-//Guía oficial de Cantabria | Turismo | Descubre Cantabria - ECPv6.15.20//NONSGML v1.0//EN
CALSCALE:GREGORIAN
METHOD:PUBLISH
X-WR-CALNAME:Guía oficial de Cantabria | Turismo | Descubre Cantabria
X-ORIGINAL-URL:https://descubrecantabria.info
X-WR-CALDESC:Eventos para Guía oficial de Cantabria | Turismo | Descubre Cantabria
REFRESH-INTERVAL;VALUE=DURATION:PT1H
X-Robots-Tag:noindex
X-PUBLISHED-TTL:PT1H
BEGIN:VTIMEZONE
TZID:Europe/Madrid
BEGIN:DAYLIGHT
TZOFFSETFROM:+0100
TZOFFSETTO:+0200
TZNAME:CEST
DTSTART:20250330T010000
END:DAYLIGHT
BEGIN:STANDARD
TZOFFSETFROM:+0200
TZOFFSETTO:+0100
TZNAME:CET
DTSTART:20251026T010000
END:STANDARD
BEGIN:DAYLIGHT
TZOFFSETFROM:+0100
TZOFFSETTO:+0200
TZNAME:CEST
DTSTART:20260329T010000
END:DAYLIGHT
BEGIN:STANDARD
TZOFFSETFROM:+0200
TZOFFSETTO:+0100
TZNAME:CET
DTSTART:20261025T010000
END:STANDARD
BEGIN:DAYLIGHT
TZOFFSETFROM:+0100
TZOFFSETTO:+0200
TZNAME:CEST
DTSTART:20270328T010000
END:DAYLIGHT
BEGIN:STANDARD
TZOFFSETFROM:+0200
TZOFFSETTO:+0100
TZNAME:CET
DTSTART:20271031T010000
END:STANDARD
END:VTIMEZONE
BEGIN:VEVENT
DTSTART;TZID=Europe/Madrid:20260317T170000
DTEND;TZID=Europe/Madrid:20260317T200000
DTSTAMP:20260419T234546
CREATED:20260227T174036Z
LAST-MODIFIED:20260227T174115Z
UID:30003653-1773766800-1773777600@descubrecantabria.info
SUMMARY:Exposición colectiva Only Women 2026
DESCRIPTION:¿DE QUÉ TRATA “Exposición colectiva Only Women 2026”?\n  \nSe podrá visitar en el Centro Nacional de Fotografía del 6 al 29 de marzo. Las artistas que expondrán serán: Lucía Espada\, Laura Sua\, Marina Tankovich\, Beatriz Seco\, Araceli Larrán\, Laura Miatton\, Carlota Ordeñana y Ruth Miguel. En horario del Centro Nacional de Fotografía. \n  \n¡Disfruta de los “Exposición colectiva Only Women 2026”!\nDescubre Cantabria informa de que los diferentes eventos publicados se ofrecen a modo informativo\, no siendo Descubre Cantabria responsable de los problemas o daños causados por erratas o incorrecciones de los mismos.
URL:https://descubrecantabria.info/evento/exposicion-colectiva-only-women-2026/2026-03-17/
LOCATION:Centro Nacional de Fotografia\, Paseo de Julio Hauzeur\, 14\, Torrelavega\, Cantabria\, 39300\, Spain
CATEGORIES:Exposiciones,Fotografía
ATTACH;FMTTYPE=image/webp:https://descubrecantabria.info/wp-content/uploads/2026/02/eventos-torrelavega-exposicion-colectiva-only-women_11zon.webp
END:VEVENT
END:VCALENDAR