BEGIN:VCALENDAR
VERSION:2.0
PRODID:-//Guía oficial de Cantabria | Turismo | Descubre Cantabria - ECPv6.15.20//NONSGML v1.0//EN
CALSCALE:GREGORIAN
METHOD:PUBLISH
X-WR-CALNAME:Guía oficial de Cantabria | Turismo | Descubre Cantabria
X-ORIGINAL-URL:https://descubrecantabria.info
X-WR-CALDESC:Eventos para Guía oficial de Cantabria | Turismo | Descubre Cantabria
REFRESH-INTERVAL;VALUE=DURATION:PT1H
X-Robots-Tag:noindex
X-PUBLISHED-TTL:PT1H
BEGIN:VTIMEZONE
TZID:Europe/Madrid
BEGIN:DAYLIGHT
TZOFFSETFROM:+0100
TZOFFSETTO:+0200
TZNAME:CEST
DTSTART:20250330T010000
END:DAYLIGHT
BEGIN:STANDARD
TZOFFSETFROM:+0200
TZOFFSETTO:+0100
TZNAME:CET
DTSTART:20251026T010000
END:STANDARD
BEGIN:DAYLIGHT
TZOFFSETFROM:+0100
TZOFFSETTO:+0200
TZNAME:CEST
DTSTART:20260329T010000
END:DAYLIGHT
BEGIN:STANDARD
TZOFFSETFROM:+0200
TZOFFSETTO:+0100
TZNAME:CET
DTSTART:20261025T010000
END:STANDARD
BEGIN:DAYLIGHT
TZOFFSETFROM:+0100
TZOFFSETTO:+0200
TZNAME:CEST
DTSTART:20270328T010000
END:DAYLIGHT
BEGIN:STANDARD
TZOFFSETFROM:+0200
TZOFFSETTO:+0100
TZNAME:CET
DTSTART:20271031T010000
END:STANDARD
END:VTIMEZONE
BEGIN:VEVENT
DTSTART;TZID=Europe/Madrid:20260329T170000
DTEND;TZID=Europe/Madrid:20260329T170000
DTSTAMP:20260423T220154
CREATED:20260225T133903Z
LAST-MODIFIED:20260225T133917Z
UID:30002634-1774803600-1774803600@descubrecantabria.info
SUMMARY:Exposición de pintura del Colectivo Octo
DESCRIPTION:¿DE QUÉ TRATA “Exposición de pintura del Colectivo Octo”?\n  \nOcho artistas\, ocho miradas y múltiples sensibilidades que se expresan a través del óleo. Una muestra que recoge distintas visiones de lo cotidiano\, de lo que nos rodea y de aquello que nos atrae\, plasmadas en lienzos llenos de matices y personalidad. \nArtistas participantes: Clara Isabel Gutiérrez · Rafael Alonso · Fran Vidal · Jesús de Andrés · Cristina Valdor · Alberto G. Seco · Francisco Porras · Dori Gil \n  \n¡Disfruta de los “Exposición de pintura del Colectivo Octo”!\n  \nEncuentra todos los eventos de Corrales de Buelna aquí. \nDescubre Cantabria informa de que los diferentes eventos publicados se ofrecen a modo informativo\, no siendo Descubre Cantabria responsable de los problemas o daños causados por erratas o incorrecciones de los mismos.
URL:https://descubrecantabria.info/evento/exposicion-de-pintura-del-colectivo-octo/2026-03-29/
LOCATION:Teatro Corrales de Buelna\, Avenida Cantabria 19\, Corrales de Buelna\, Cantabria\, 39400\, Spain
CATEGORIES:Artes plástica,Exposiciones
ATTACH;FMTTYPE=image/webp:https://descubrecantabria.info/wp-content/uploads/2026/02/eventos-corrales-de-buelna-exposicion-pintura-colectico-octo_11zon.webp
END:VEVENT
END:VCALENDAR