BEGIN:VCALENDAR
VERSION:2.0
PRODID:-//Guía oficial de Cantabria | Turismo | Descubre Cantabria - ECPv6.15.20//NONSGML v1.0//EN
CALSCALE:GREGORIAN
METHOD:PUBLISH
X-WR-CALNAME:Guía oficial de Cantabria | Turismo | Descubre Cantabria
X-ORIGINAL-URL:https://descubrecantabria.info
X-WR-CALDESC:Eventos para Guía oficial de Cantabria | Turismo | Descubre Cantabria
REFRESH-INTERVAL;VALUE=DURATION:PT1H
X-Robots-Tag:noindex
X-PUBLISHED-TTL:PT1H
BEGIN:VTIMEZONE
TZID:Europe/Madrid
BEGIN:DAYLIGHT
TZOFFSETFROM:+0100
TZOFFSETTO:+0200
TZNAME:CEST
DTSTART:20250330T010000
END:DAYLIGHT
BEGIN:STANDARD
TZOFFSETFROM:+0200
TZOFFSETTO:+0100
TZNAME:CET
DTSTART:20251026T010000
END:STANDARD
BEGIN:DAYLIGHT
TZOFFSETFROM:+0100
TZOFFSETTO:+0200
TZNAME:CEST
DTSTART:20260329T010000
END:DAYLIGHT
BEGIN:STANDARD
TZOFFSETFROM:+0200
TZOFFSETTO:+0100
TZNAME:CET
DTSTART:20261025T010000
END:STANDARD
BEGIN:DAYLIGHT
TZOFFSETFROM:+0100
TZOFFSETTO:+0200
TZNAME:CEST
DTSTART:20270328T010000
END:DAYLIGHT
BEGIN:STANDARD
TZOFFSETFROM:+0200
TZOFFSETTO:+0100
TZNAME:CET
DTSTART:20271031T010000
END:STANDARD
END:VTIMEZONE
BEGIN:VEVENT
DTSTART;TZID=Europe/Madrid:20260410T170000
DTEND;TZID=Europe/Madrid:20260410T170000
DTSTAMP:20260423T162827
CREATED:20260408T172318Z
LAST-MODIFIED:20260408T172724Z
UID:24848102-1775840400-1775840400@descubrecantabria.info
SUMMARY:Exposición El viaje de las mujeres del desierto
DESCRIPTION:¿DE QUÉ TRATA “Exposición El viaje de las mujeres del desierto”?\n  \nMundubat y Cantabria por el Sáhara presentan este viernes\, 10 de abril\, en la Casa de Cultura Villa Mercedes\, en Val de San Vicente\, a las 18 horas\, la exposición “El viaje de las mujeres del desierto”\, de la fotógrafa documental Ana Valiño. \nLa muestra de 23 fotografías\, que se podrá visitar hasta el 26 de abril\, es fruto de un exhaustivo trabajo de investigación realizado en los campamentos de población refugiada del Sáhara abordando la construcción de la identidad\, los derechos humanos\, la migración y la discriminación. \nEl horario de apertura es de lunes a viernes\, de 11:00 a 14:00 y de 16:00 a 19:30.  \n  \n¡Disfruta de los “Exposición El viaje de las mujeres del desierto”!\nDescubre Cantabria informa de que los diferentes eventos publicados se ofrecen a modo informativo\, no siendo Descubre Cantabria responsable de los problemas o daños causados por erratas o incorrecciones de los mismos.
URL:https://descubrecantabria.info/evento/exposicion-el-viaje-de-las-mujeres-del-desierto-2/
LOCATION:Casa de cultura Villa Mercedes\, Calle San Felipe Neri 5\, Unquera\, Cantabria\, 39560\, Spain
CATEGORIES:Exposiciones
ATTACH;FMTTYPE=image/webp:https://descubrecantabria.info/wp-content/uploads/2026/03/eventos-cantabria-expsicion-el-viaje-de-las-mujeres-del-desierto_11zon.webp
END:VEVENT
END:VCALENDAR