BEGIN:VCALENDAR
VERSION:2.0
PRODID:-//Guía oficial de Cantabria | Turismo | Descubre Cantabria - ECPv6.15.20//NONSGML v1.0//EN
CALSCALE:GREGORIAN
METHOD:PUBLISH
X-WR-CALNAME:Guía oficial de Cantabria | Turismo | Descubre Cantabria
X-ORIGINAL-URL:https://descubrecantabria.info
X-WR-CALDESC:Eventos para Guía oficial de Cantabria | Turismo | Descubre Cantabria
REFRESH-INTERVAL;VALUE=DURATION:PT1H
X-Robots-Tag:noindex
X-PUBLISHED-TTL:PT1H
BEGIN:VTIMEZONE
TZID:Europe/Madrid
BEGIN:DAYLIGHT
TZOFFSETFROM:+0100
TZOFFSETTO:+0200
TZNAME:CEST
DTSTART:20250330T010000
END:DAYLIGHT
BEGIN:STANDARD
TZOFFSETFROM:+0200
TZOFFSETTO:+0100
TZNAME:CET
DTSTART:20251026T010000
END:STANDARD
BEGIN:DAYLIGHT
TZOFFSETFROM:+0100
TZOFFSETTO:+0200
TZNAME:CEST
DTSTART:20260329T010000
END:DAYLIGHT
BEGIN:STANDARD
TZOFFSETFROM:+0200
TZOFFSETTO:+0100
TZNAME:CET
DTSTART:20261025T010000
END:STANDARD
BEGIN:DAYLIGHT
TZOFFSETFROM:+0100
TZOFFSETTO:+0200
TZNAME:CEST
DTSTART:20270328T010000
END:DAYLIGHT
BEGIN:STANDARD
TZOFFSETFROM:+0200
TZOFFSETTO:+0100
TZNAME:CET
DTSTART:20271031T010000
END:STANDARD
END:VTIMEZONE
BEGIN:VEVENT
DTSTART;TZID=Europe/Madrid:20260331T170000
DTEND;TZID=Europe/Madrid:20260331T170000
DTSTAMP:20260423T204331
CREATED:20260319T105349Z
LAST-MODIFIED:20260319T105412Z
UID:30005334-1774976400-1774976400@descubrecantabria.info
SUMMARY:Exposición Felicidad Sainz Chocarro “Filuca”
DESCRIPTION:¿DE QUÉ TRATA “Exposición Felicidad Sainz Chocarro “Filuca””?\n  \n\nLa Sala de exposiciones de la Casona acoge las obras de esta pintora de gran sensibilidad. Su obra es el resultado de la interiorización de las imágenes que ha captado\, no sirviéndose de apuntes previos\, con un gran dominio de la composición\, la luz y el color. Horario de visita mismo horario apertura La Casona Reinosa \n\n  \n¡Disfruta de los “Exposición Felicidad Sainz Chocarro “Filuca””!\nDescubre Cantabria informa de que los diferentes eventos publicados se ofrecen a modo informativo\, no siendo Descubre Cantabria responsable de los problemas o daños causados por erratas o incorrecciones de los mismos.
URL:https://descubrecantabria.info/evento/exposicion-felicidad-sainz-chocarro-filuca/2026-03-31/
LOCATION:La Casona Reinosa\, Avenida Puente de Carlos III\, 23\, Reinosa\, Cantabria\, 39200\, Spain
CATEGORIES:Exposiciones
ATTACH;FMTTYPE=image/webp:https://descubrecantabria.info/wp-content/uploads/2026/03/eventos-cantabria-exposicion-felicidad-sainz_11zon.webp
END:VEVENT
END:VCALENDAR