BEGIN:VCALENDAR
VERSION:2.0
PRODID:-//Guía oficial de Cantabria | Turismo | Descubre Cantabria - ECPv6.15.20//NONSGML v1.0//EN
CALSCALE:GREGORIAN
METHOD:PUBLISH
X-WR-CALNAME:Guía oficial de Cantabria | Turismo | Descubre Cantabria
X-ORIGINAL-URL:https://descubrecantabria.info
X-WR-CALDESC:Eventos para Guía oficial de Cantabria | Turismo | Descubre Cantabria
REFRESH-INTERVAL;VALUE=DURATION:PT1H
X-Robots-Tag:noindex
X-PUBLISHED-TTL:PT1H
BEGIN:VTIMEZONE
TZID:Europe/Madrid
BEGIN:DAYLIGHT
TZOFFSETFROM:+0100
TZOFFSETTO:+0200
TZNAME:CEST
DTSTART:20250330T010000
END:DAYLIGHT
BEGIN:STANDARD
TZOFFSETFROM:+0200
TZOFFSETTO:+0100
TZNAME:CET
DTSTART:20251026T010000
END:STANDARD
BEGIN:DAYLIGHT
TZOFFSETFROM:+0100
TZOFFSETTO:+0200
TZNAME:CEST
DTSTART:20260329T010000
END:DAYLIGHT
BEGIN:STANDARD
TZOFFSETFROM:+0200
TZOFFSETTO:+0100
TZNAME:CET
DTSTART:20261025T010000
END:STANDARD
BEGIN:DAYLIGHT
TZOFFSETFROM:+0100
TZOFFSETTO:+0200
TZNAME:CEST
DTSTART:20270328T010000
END:DAYLIGHT
BEGIN:STANDARD
TZOFFSETFROM:+0200
TZOFFSETTO:+0100
TZNAME:CET
DTSTART:20271031T010000
END:STANDARD
END:VTIMEZONE
BEGIN:VEVENT
DTSTART;TZID=Europe/Madrid:20260503T180000
DTEND;TZID=Europe/Madrid:20260503T180000
DTSTAMP:20260423T022229
CREATED:20260422T192600Z
LAST-MODIFIED:20260422T193212Z
UID:30008278-1777831200-1777831200@descubrecantabria.info
SUMMARY:Exposición | Maquetas Navales
DESCRIPTION:¿DE QUÉ TRATA “Exposición | Maquetas Navales”?\n  \nDel 24 de abril al 13 de mayo en el Castillo – Faro. Horario: Lunes a Domingo de 11 a 13.30h y de 18 a 20. Entrada libre. \nImpresionantes maquetas de buques y navíos de diferentes épocas reproducidos con todo detalle.  \nEn esta exposición podrás ver cómo eran el galeón San Luis\, la fragata Diana\, la Santísima Trinidad\, y otros barcos que participaron en batallas navales históricas. \nTambién embarcaciones pesqueras\, como una merlucera del Cantábrico o un barco de nécora. \n  \n¡Disfruta de los “Exposición | Maquetas Navales”!\nDescubre Cantabria informa de que los diferentes eventos publicados se ofrecen a modo informativo\, no siendo Descubre Cantabria responsable de los problemas o daños causados por erratas o incorrecciones de los mismos.
URL:https://descubrecantabria.info/evento/exposicion-maquetas-navales/2026-05-03/
LOCATION:Castillo-Faro Castro Urdiales\, Paseo Marítimo\, 12\, Castro Urdiales\, Cantabria\, 39700\, Spain
CATEGORIES:Exposiciones
ATTACH;FMTTYPE=image/webp:https://descubrecantabria.info/wp-content/uploads/2026/04/eventos-cantabria-exposicion-de-maquetas-navales-castro_11zon.webp
END:VEVENT
END:VCALENDAR