BEGIN:VCALENDAR
VERSION:2.0
PRODID:-//Guía oficial de Cantabria | Turismo | Descubre Cantabria - ECPv6.15.20//NONSGML v1.0//EN
CALSCALE:GREGORIAN
METHOD:PUBLISH
X-WR-CALNAME:Guía oficial de Cantabria | Turismo | Descubre Cantabria
X-ORIGINAL-URL:https://descubrecantabria.info
X-WR-CALDESC:Eventos para Guía oficial de Cantabria | Turismo | Descubre Cantabria
REFRESH-INTERVAL;VALUE=DURATION:PT1H
X-Robots-Tag:noindex
X-PUBLISHED-TTL:PT1H
BEGIN:VTIMEZONE
TZID:Europe/Madrid
BEGIN:DAYLIGHT
TZOFFSETFROM:+0100
TZOFFSETTO:+0200
TZNAME:CEST
DTSTART:20250330T010000
END:DAYLIGHT
BEGIN:STANDARD
TZOFFSETFROM:+0200
TZOFFSETTO:+0100
TZNAME:CET
DTSTART:20251026T010000
END:STANDARD
BEGIN:DAYLIGHT
TZOFFSETFROM:+0100
TZOFFSETTO:+0200
TZNAME:CEST
DTSTART:20260329T010000
END:DAYLIGHT
BEGIN:STANDARD
TZOFFSETFROM:+0200
TZOFFSETTO:+0100
TZNAME:CET
DTSTART:20261025T010000
END:STANDARD
BEGIN:DAYLIGHT
TZOFFSETFROM:+0100
TZOFFSETTO:+0200
TZNAME:CEST
DTSTART:20270328T010000
END:DAYLIGHT
BEGIN:STANDARD
TZOFFSETFROM:+0200
TZOFFSETTO:+0100
TZNAME:CET
DTSTART:20271031T010000
END:STANDARD
END:VTIMEZONE
BEGIN:VEVENT
DTSTART;VALUE=DATE:20260523
DTEND;VALUE=DATE:20260524
DTSTAMP:20260423T214046
CREATED:20260225T125831Z
LAST-MODIFIED:20260225T125857Z
UID:280336-1779494400-1779580799@descubrecantabria.info
SUMMARY:Festival Poptour Sarón 2026
DESCRIPTION:¿DE QUÉ TRATA “Festival Poptuor Sarón 2026”?\n  \nUna año más vuelve el Festival Poptour Sarón 2026\, dónde el próximo 23 de mayo del 2026\, podrás disfrutar de conciertos como Joaquín Padilla\, Ex Iguana Tango La Ruleta A3\, Gatos Locos\, Rey Lui\, Bernardez Therefrescos o La Banda del Capitán Inhumano. \n  \n¡Disfruta de los “Festival Poptuor Sarón 2026”!\n  \nEncuentra todos los eventos de Sarón aquí. \nDescubre Cantabria informa de que los diferentes eventos publicados se ofrecen a modo informativo\, no siendo Descubre Cantabria responsable de los problemas o daños causados por erratas o incorrecciones de los mismos.
URL:https://descubrecantabria.info/evento/festival-poptour-saron-2026/
LOCATION:Plaza La Estacion Saron\, Plaza la Estación\, s/n\, Sarón\, Cantabria\, 39620\, Spain
CATEGORIES:Música
ATTACH;FMTTYPE=image/webp:https://descubrecantabria.info/wp-content/uploads/2026/02/eventos-saron-poptour-festival-saron-2026_11zon.webp
END:VEVENT
END:VCALENDAR