BEGIN:VCALENDAR
VERSION:2.0
PRODID:-//Guía oficial de Cantabria | Turismo | Descubre Cantabria - ECPv6.15.20//NONSGML v1.0//EN
CALSCALE:GREGORIAN
METHOD:PUBLISH
X-WR-CALNAME:Guía oficial de Cantabria | Turismo | Descubre Cantabria
X-ORIGINAL-URL:https://descubrecantabria.info
X-WR-CALDESC:Eventos para Guía oficial de Cantabria | Turismo | Descubre Cantabria
REFRESH-INTERVAL;VALUE=DURATION:PT1H
X-Robots-Tag:noindex
X-PUBLISHED-TTL:PT1H
BEGIN:VTIMEZONE
TZID:Europe/Madrid
BEGIN:DAYLIGHT
TZOFFSETFROM:+0100
TZOFFSETTO:+0200
TZNAME:CEST
DTSTART:20240331T010000
END:DAYLIGHT
BEGIN:STANDARD
TZOFFSETFROM:+0200
TZOFFSETTO:+0100
TZNAME:CET
DTSTART:20241027T010000
END:STANDARD
BEGIN:DAYLIGHT
TZOFFSETFROM:+0100
TZOFFSETTO:+0200
TZNAME:CEST
DTSTART:20250330T010000
END:DAYLIGHT
BEGIN:STANDARD
TZOFFSETFROM:+0200
TZOFFSETTO:+0100
TZNAME:CET
DTSTART:20251026T010000
END:STANDARD
BEGIN:DAYLIGHT
TZOFFSETFROM:+0100
TZOFFSETTO:+0200
TZNAME:CEST
DTSTART:20260329T010000
END:DAYLIGHT
BEGIN:STANDARD
TZOFFSETFROM:+0200
TZOFFSETTO:+0100
TZNAME:CET
DTSTART:20261025T010000
END:STANDARD
END:VTIMEZONE
BEGIN:VEVENT
DTSTART;TZID=Europe/Madrid:20251104T093000
DTEND;TZID=Europe/Madrid:20251104T170000
DTSTAMP:20260424T141525
CREATED:20251030T160458Z
LAST-MODIFIED:20251030T160532Z
UID:270399-1762248600-1762275600@descubrecantabria.info
SUMMARY:III Jornada de Salud Mental
DESCRIPTION:¿DE QUÉ TRATA “III Jornada de Salud Mental”?\n  \n\n\n\n\n\n\n\n\n\n\n\nLa Fundación Acorde organiza la III Jornada de Salud Mental\, un espacio de encuentro\, reflexión y aprendizaje en torno al cuidado de la salud mental y el apoyo a las familias. Se abordarán temas clave como el autocuidado\, la atención a familias\, las adicciones y la salud mental\, así como el trabajo en red. Todo esto de la mano de profesionales del ámbito psicológico y social. \nPrograma: \n9:30 | Recepción y presentación \nZulema Gancedo González (Concejala de Servicios Sociales\, Familia\, Salud\, Autonomía Personal e Igualdad del Ayto. de Santander.) \nDamián González Pérez (Presidente de Fundación Acorde) \n10:15 | El autocuidado como factor de protección \nSheila Cagigas Antón (Psicóloga General Sanitaria) \nMónica Sardina Casanueva (Técnico Superior de Integración Social) \n11:00 | No todo es la adicción \nLaura Iglesias Llanos (Psicóloga General Sanitaria) \nAinara Megía Aguirre (Técnico Superior de Integración Social) \n11:45 | Descanso \n12:15 | Atención a las familias \nÁngela Martínez Pérez (Psicóloga con Habilitación Sanitaria) \nMónica Sardina Casanueva (Integración Social) \n13:00 | Trabajo en red \nDamián González Pérez (Presidente de Fundación Acorde) \nLaura Higuera Pardo (Ayudante de Dirección) \n13:30 | Clausura \nInscripción previa obligatoria (hasta completar aforo). \nInscríbete antes del 31 de octubre escribiendo a: \njornadas@fundacionacorde.com (Se enviará correo de confirmación) \nOrganiza: Fundación Acorde \nColabora: Ayuntamiento de Santander \n  \n\n\n\n\n¡Disfruta de los “III Jornada de Salud Mental”!\nDescubre Santander informa de que los diferentes eventos publicados se ofrecen a modo informativo\, no siendo Descubre Santander responsable de los problemas o daños causados por erratas o incorrecciones de los mismos.
URL:https://descubrecantabria.info/evento/iii-jornada-de-salud-mental/
LOCATION:Centro civico Juan de Santander\, Calle el Recial 25\, Santander\, Cantabria\, 39012\, Spain
CATEGORIES:Talleres
ATTACH;FMTTYPE=image/webp:https://descubrecantabria.info/wp-content/uploads/2025/10/eventos-santander-iii-jornada-de-salud-mental_11zon.webp
END:VEVENT
END:VCALENDAR