BEGIN:VCALENDAR
VERSION:2.0
PRODID:-//Guía oficial de Cantabria | Turismo | Descubre Cantabria - ECPv6.15.20//NONSGML v1.0//EN
CALSCALE:GREGORIAN
METHOD:PUBLISH
X-WR-CALNAME:Guía oficial de Cantabria | Turismo | Descubre Cantabria
X-ORIGINAL-URL:https://descubrecantabria.info
X-WR-CALDESC:Eventos para Guía oficial de Cantabria | Turismo | Descubre Cantabria
REFRESH-INTERVAL;VALUE=DURATION:PT1H
X-Robots-Tag:noindex
X-PUBLISHED-TTL:PT1H
BEGIN:VTIMEZONE
TZID:Europe/Madrid
BEGIN:DAYLIGHT
TZOFFSETFROM:+0100
TZOFFSETTO:+0200
TZNAME:CEST
DTSTART:20250330T010000
END:DAYLIGHT
BEGIN:STANDARD
TZOFFSETFROM:+0200
TZOFFSETTO:+0100
TZNAME:CET
DTSTART:20251026T010000
END:STANDARD
BEGIN:DAYLIGHT
TZOFFSETFROM:+0100
TZOFFSETTO:+0200
TZNAME:CEST
DTSTART:20260329T010000
END:DAYLIGHT
BEGIN:STANDARD
TZOFFSETFROM:+0200
TZOFFSETTO:+0100
TZNAME:CET
DTSTART:20261025T010000
END:STANDARD
BEGIN:DAYLIGHT
TZOFFSETFROM:+0100
TZOFFSETTO:+0200
TZNAME:CEST
DTSTART:20270328T010000
END:DAYLIGHT
BEGIN:STANDARD
TZOFFSETFROM:+0200
TZOFFSETTO:+0100
TZNAME:CET
DTSTART:20271031T010000
END:STANDARD
END:VTIMEZONE
BEGIN:VEVENT
DTSTART;TZID=Europe/Madrid:20260314T113000
DTEND;TZID=Europe/Madrid:20260314T170000
DTSTAMP:20260423T134028
CREATED:20260309T190344Z
LAST-MODIFIED:20260309T190411Z
UID:282540-1773487800-1773507600@descubrecantabria.info
SUMMARY:Iniciación a la fruticultura en Bezana
DESCRIPTION:¿DE QUÉ TRATA “Iniciación a la fruticultura en Bezana”?\n  \nEste mes de marzo\, el Centro Cívico de Bezana acogerá dos jornadas informativas dedicadas a la fruticultura y al cultivo y cuidado de los cítricos. \n14 de marzo – Primeros pasos en la fruticultura. Charla dirigida a quienes quieran iniciarse en el cultivo de frutales y conocer sus bases. \n21 de marzo – Cultivo y cuidados del cítrico. Jornada centrada en el cultivo de cítricos y sus principales cuidados. \nAmbas sesiones comenzarán a las 11.30 h y serán impartidas por el especialista David Bolado\, de Solo Frutales. \n  \n¡Disfruta de los “Iniciación a la fruticultura en Bezana”!\nDescubre Cantabria informa de que los diferentes eventos publicados se ofrecen a modo informativo\, no siendo Descubre Cantabria responsable de los problemas o daños causados por erratas o incorrecciones de los mismos.
URL:https://descubrecantabria.info/evento/iniciacion-a-la-fruticultura-en-bezana/
LOCATION:Centro Civico de Bezana\, Plaza Margarita\, s/n\, Bezana\, Cantabria\, 39100\, Spain
CATEGORIES:Talleres
ATTACH;FMTTYPE=image/webp:https://descubrecantabria.info/wp-content/uploads/2026/03/eventos-cantabria-iniciacion-a-la-fruticultura_11zon.webp
END:VEVENT
END:VCALENDAR