BEGIN:VCALENDAR
VERSION:2.0
PRODID:-//Guía oficial de Cantabria | Turismo | Descubre Cantabria - ECPv6.15.20//NONSGML v1.0//EN
CALSCALE:GREGORIAN
METHOD:PUBLISH
X-WR-CALNAME:Guía oficial de Cantabria | Turismo | Descubre Cantabria
X-ORIGINAL-URL:https://descubrecantabria.info
X-WR-CALDESC:Eventos para Guía oficial de Cantabria | Turismo | Descubre Cantabria
REFRESH-INTERVAL;VALUE=DURATION:PT1H
X-Robots-Tag:noindex
X-PUBLISHED-TTL:PT1H
BEGIN:VTIMEZONE
TZID:Europe/Madrid
BEGIN:DAYLIGHT
TZOFFSETFROM:+0100
TZOFFSETTO:+0200
TZNAME:CEST
DTSTART:20250330T010000
END:DAYLIGHT
BEGIN:STANDARD
TZOFFSETFROM:+0200
TZOFFSETTO:+0100
TZNAME:CET
DTSTART:20251026T010000
END:STANDARD
BEGIN:DAYLIGHT
TZOFFSETFROM:+0100
TZOFFSETTO:+0200
TZNAME:CEST
DTSTART:20260329T010000
END:DAYLIGHT
BEGIN:STANDARD
TZOFFSETFROM:+0200
TZOFFSETTO:+0100
TZNAME:CET
DTSTART:20261025T010000
END:STANDARD
BEGIN:DAYLIGHT
TZOFFSETFROM:+0100
TZOFFSETTO:+0200
TZNAME:CEST
DTSTART:20270328T010000
END:DAYLIGHT
BEGIN:STANDARD
TZOFFSETFROM:+0200
TZOFFSETTO:+0100
TZNAME:CET
DTSTART:20271031T010000
END:STANDARD
END:VTIMEZONE
BEGIN:VEVENT
DTSTART;VALUE=DATE:20260315
DTEND;VALUE=DATE:20260316
DTSTAMP:20260419T235032
CREATED:20260223T193435Z
LAST-MODIFIED:20260223T193520Z
UID:280206-1773532800-1773619199@descubrecantabria.info
SUMMARY:IV concurso de Ollas Ferroviarias Astillero 2026
DESCRIPTION:¿DE QUÉ TRATA “IV concurso de Ollas Ferroviarias Astillero 2026”?\n  \nEl fuego volverá a encenderse\, las ollas empezarán a hervir y las cuadrillas tomarán La Fondona para vivir una de las jornadas más esperadas del año. \nEl IV Concurso de Ollas Ferroviarias ya está aquí… Y este año\, ¿quién se lleva el reconocimiento?  Prepara tu receta y afina tu estrategia. Porque aquí no solo cuenta el sabor… También premiamos: \n\nLa mejor olla\nLa mejor carpa\nLa mejor pócima\n\n  \n¡Disfruta de los “IV concurso de Ollas Ferroviarias Astillero 2026”!\n  \nEncuentra todos los eventos de Astillero aquí. \nDescubre Cantabria informa de que los diferentes eventos publicados se ofrecen a modo informativo\, no siendo Descubre Cantabria responsable de los problemas o daños causados por erratas o incorrecciones de los mismos.
URL:https://descubrecantabria.info/evento/iv-concurso-de-ollas-ferroviarias-astillero-2026/
LOCATION:Ayuntamiento de Astillero\, Calle San José 10\, Astillero\, Cantabria\, 39610\, Spain
CATEGORIES:Fiestas populares,Gastronomía
ATTACH;FMTTYPE=image/webp:https://descubrecantabria.info/wp-content/uploads/2026/02/eventos-astillero-iv-concurso-de-ollas-ferroviarias-de-alubias-con._11zon.webp
END:VEVENT
END:VCALENDAR