BEGIN:VCALENDAR
VERSION:2.0
PRODID:-//Guía oficial de Cantabria | Turismo | Descubre Cantabria - ECPv6.15.20//NONSGML v1.0//EN
CALSCALE:GREGORIAN
METHOD:PUBLISH
X-WR-CALNAME:Guía oficial de Cantabria | Turismo | Descubre Cantabria
X-ORIGINAL-URL:https://descubrecantabria.info
X-WR-CALDESC:Eventos para Guía oficial de Cantabria | Turismo | Descubre Cantabria
REFRESH-INTERVAL;VALUE=DURATION:PT1H
X-Robots-Tag:noindex
X-PUBLISHED-TTL:PT1H
BEGIN:VTIMEZONE
TZID:Europe/Madrid
BEGIN:DAYLIGHT
TZOFFSETFROM:+0100
TZOFFSETTO:+0200
TZNAME:CEST
DTSTART:20240331T010000
END:DAYLIGHT
BEGIN:STANDARD
TZOFFSETFROM:+0200
TZOFFSETTO:+0100
TZNAME:CET
DTSTART:20241027T010000
END:STANDARD
BEGIN:DAYLIGHT
TZOFFSETFROM:+0100
TZOFFSETTO:+0200
TZNAME:CEST
DTSTART:20250330T010000
END:DAYLIGHT
BEGIN:STANDARD
TZOFFSETFROM:+0200
TZOFFSETTO:+0100
TZNAME:CET
DTSTART:20251026T010000
END:STANDARD
BEGIN:DAYLIGHT
TZOFFSETFROM:+0100
TZOFFSETTO:+0200
TZNAME:CEST
DTSTART:20260329T010000
END:DAYLIGHT
BEGIN:STANDARD
TZOFFSETFROM:+0200
TZOFFSETTO:+0100
TZNAME:CET
DTSTART:20261025T010000
END:STANDARD
END:VTIMEZONE
BEGIN:VEVENT
DTSTART;TZID=Europe/Madrid:20251122T193000
DTEND;TZID=Europe/Madrid:20251122T193000
DTSTAMP:20260424T104812
CREATED:20251029T161250Z
LAST-MODIFIED:20251029T161343Z
UID:270205-1763839800-1763839800@descubrecantabria.info
SUMMARY:Juego de escape 1939 en Torrelavega
DESCRIPTION:¿DE QUÉ TRATA “Juego de escape 1939 en Torrelavega”?\n\n\n\n\n\n\n\n\n\n\n\n  \n¿Quieres vivir una experiencia diferente? Este juego de escape no es solo una forma divertida de pasar el rato\, es una experiencia en la que aprenderás un montón\, te pondrás en la piel de otras personas\, y empezarás a mirar la historia de otra manera.  \nTu equipo se moverá por diferentes espacios ambientados\, en los que deberá encontrar pistas\, adivinar acertijos\, y superar algún reto. Tendréis un tiempo limitado para resolverlos todos y encontrar la forma de escapar. \n Durante el juego aprenderéis de forma activa sobre nuestro pasado\, sobre nuestra historia. Viajaréis en el tiempo hasta la época de la posguerra española y la dictadura franquista. \n  \n\n\n\n\n\n\n\n\n\n\n\n\n\n\n\n\n\n\n¡Disfruta de los “Juego de escape 1939 en Torrelavega”!\nDescubre Cantabria informa de que los diferentes eventos publicados se ofrecen a modo informativo\, no siendo Descubre Cantabria responsable de los problemas o daños causados por erratas o incorrecciones de los mismos.
URL:https://descubrecantabria.info/evento/juego-de-escape-1939-en-torrelavega/
LOCATION:Asociacion Cultural Octubre\, Barrio Sierrapando 317\, Torrelavega\, Cantabria\, 39300\, Spain
CATEGORIES:Talleres
ATTACH;FMTTYPE=image/webp:https://descubrecantabria.info/wp-content/uploads/2025/10/eventos-cantabria-scape-room-1939-torrelavega_11zon.webp
END:VEVENT
END:VCALENDAR