BEGIN:VCALENDAR
VERSION:2.0
PRODID:-//Guía oficial de Cantabria | Turismo | Descubre Cantabria - ECPv6.15.20//NONSGML v1.0//EN
CALSCALE:GREGORIAN
METHOD:PUBLISH
X-WR-CALNAME:Guía oficial de Cantabria | Turismo | Descubre Cantabria
X-ORIGINAL-URL:https://descubrecantabria.info
X-WR-CALDESC:Eventos para Guía oficial de Cantabria | Turismo | Descubre Cantabria
REFRESH-INTERVAL;VALUE=DURATION:PT1H
X-Robots-Tag:noindex
X-PUBLISHED-TTL:PT1H
BEGIN:VTIMEZONE
TZID:Europe/Madrid
BEGIN:DAYLIGHT
TZOFFSETFROM:+0100
TZOFFSETTO:+0200
TZNAME:CEST
DTSTART:20250330T010000
END:DAYLIGHT
BEGIN:STANDARD
TZOFFSETFROM:+0200
TZOFFSETTO:+0100
TZNAME:CET
DTSTART:20251026T010000
END:STANDARD
BEGIN:DAYLIGHT
TZOFFSETFROM:+0100
TZOFFSETTO:+0200
TZNAME:CEST
DTSTART:20260329T010000
END:DAYLIGHT
BEGIN:STANDARD
TZOFFSETFROM:+0200
TZOFFSETTO:+0100
TZNAME:CET
DTSTART:20261025T010000
END:STANDARD
BEGIN:DAYLIGHT
TZOFFSETFROM:+0100
TZOFFSETTO:+0200
TZNAME:CEST
DTSTART:20270328T010000
END:DAYLIGHT
BEGIN:STANDARD
TZOFFSETFROM:+0200
TZOFFSETTO:+0100
TZNAME:CET
DTSTART:20271031T010000
END:STANDARD
END:VTIMEZONE
BEGIN:VEVENT
DTSTART;TZID=Europe/Madrid:20260117T100000
DTEND;TZID=Europe/Madrid:20260117T170000
DTSTAMP:20260420T160609
CREATED:20251224T120423Z
LAST-MODIFIED:20251224T120440Z
UID:274459-1768644000-1768669200@descubrecantabria.info
SUMMARY:La engañosa belleza de las plantas invasoras en las dunas de la playa Salvé
DESCRIPTION:¿DE QUÉ TRATA “La engañosa belleza de las plantas invasoras en las dunas de la playa Salvé”?\n\n\n\n\n\n\n\n\n\n\n\n  \nEl programa ofrece la posibilidad de que los participantes puedan compartir coche para el desplazamiento hasta el punto de encuentro de la actividad. \nSe solicitará un autobús para el desarrollo de esta actividad. Hay servicio de transporte público en autobús directo desde Santander\, Torrelavega y Castro Urdiales a Laredo. Se pueden consultar horarios y precios en el siguiente enlace: www.alsa.es \nLa distancia desde la estación de autobús de Laredo hasta el punto de encuentro de esta actividad es de 2\,5 Km aproximadamente. \nRealización de una jornada de eliminación de plantas invasoras\, preferentemente onagra y uña de gato\, en las dunas de la playa Salvé de Laredo.  \nTras la eliminación de las invasoras\, revegetaremos la zona con especies dunares autóctonas. Previamente\, se hará un breve recorrido interpretativo por la zona de actuación para identificar las especies presentes en el entorno\, tanto autóctonas como invasoras y conocer su hábitat.  \nFinalizaremos la actividad con un aperitivo a base de productos saludables\, sirviéndolos sin plásticos de un solo uso. \nImprescindible inscripción previa. Ropa cómoda\, calzado resistente (botas de montaña)\, chubasquero o crema de protección solar (en función de las condiciones meteorológicas) y agua .  \n  \n\n\n\n\n\n\n\n\n\n\n\n\n\n\n\n\n\n\n¡Disfruta de los “La engañosa belleza de las plantas invasoras en las dunas de la playa Salvé”!\nDescubre Cantabria informa de que los diferentes eventos publicados se ofrecen a modo informativo\, no siendo Descubre Cantabria responsable de los problemas o daños causados por erratas o incorrecciones de los mismos.
URL:https://descubrecantabria.info/evento/la-enganosa-belleza-de-las-plantas-invasoras-en-las-dunas-de-la-playa-salve-2/
LOCATION:Playa Salve\, Paseo Marítimo 12\, Laredo\, Cantabria\, 39770\, Spain
CATEGORIES:Cultura científica
ATTACH;FMTTYPE=image/webp:https://descubrecantabria.info/wp-content/uploads/2025/12/eventos-en-laredo-la-enganosa-belleza-de-las-plantas-invasoras-en-las-dunas-de-la-playa-salve_11zon.webp
END:VEVENT
END:VCALENDAR