BEGIN:VCALENDAR
VERSION:2.0
PRODID:-//Guía oficial de Cantabria | Turismo | Descubre Cantabria - ECPv6.15.20//NONSGML v1.0//EN
CALSCALE:GREGORIAN
METHOD:PUBLISH
X-WR-CALNAME:Guía oficial de Cantabria | Turismo | Descubre Cantabria
X-ORIGINAL-URL:https://descubrecantabria.info
X-WR-CALDESC:Eventos para Guía oficial de Cantabria | Turismo | Descubre Cantabria
REFRESH-INTERVAL;VALUE=DURATION:PT1H
X-Robots-Tag:noindex
X-PUBLISHED-TTL:PT1H
BEGIN:VTIMEZONE
TZID:Europe/Madrid
BEGIN:DAYLIGHT
TZOFFSETFROM:+0100
TZOFFSETTO:+0200
TZNAME:CEST
DTSTART:20240331T010000
END:DAYLIGHT
BEGIN:STANDARD
TZOFFSETFROM:+0200
TZOFFSETTO:+0100
TZNAME:CET
DTSTART:20241027T010000
END:STANDARD
BEGIN:DAYLIGHT
TZOFFSETFROM:+0100
TZOFFSETTO:+0200
TZNAME:CEST
DTSTART:20250330T010000
END:DAYLIGHT
BEGIN:STANDARD
TZOFFSETFROM:+0200
TZOFFSETTO:+0100
TZNAME:CET
DTSTART:20251026T010000
END:STANDARD
BEGIN:DAYLIGHT
TZOFFSETFROM:+0100
TZOFFSETTO:+0200
TZNAME:CEST
DTSTART:20260329T010000
END:DAYLIGHT
BEGIN:STANDARD
TZOFFSETFROM:+0200
TZOFFSETTO:+0100
TZNAME:CET
DTSTART:20261025T010000
END:STANDARD
END:VTIMEZONE
BEGIN:VEVENT
DTSTART;TZID=Europe/Madrid:20251108T100000
DTEND;TZID=Europe/Madrid:20251108T140000
DTSTAMP:20260424T065153
CREATED:20251028T135605Z
LAST-MODIFIED:20251028T135638Z
UID:269814-1762596000-1762610400@descubrecantabria.info
SUMMARY:La engañosa belleza de las plantas invasoras en las dunas de la playa Salvé
DESCRIPTION:La engañosa belleza de las plantas invasoras en las dunas de la playa Salvé”?\n\n\n\n\n\n\n\n\n\n\n\n  \nRealización de una jornada de eliminación de plantas invasoras\, preferentemente onagra y uña de gato\, en las dunas de la playa Salvé de Laredo.  \nTras la eliminación de las invasoras\, revegetaremos la zona con especies dunares autóctonas.  \nPreviamente\, se hará un breve recorrido interpretativo por la zona de actuación para identificar las especies presentes en el entorno\, tanto autóctonas como invasoras y conocer su hábitat.  \nFinalizaremos la actividad con un aperitivo a base de productos saludables\, sirviéndolos sin plásticos de un solo uso. \n\nImprescindible inscripción previa. Ropa cómoda\, calzado resistente (botas de montaña)\, chubasquero o crema de protección solar (en función de las condiciones meteorológicas) y agua. \n  \n\n\n\n\n\n\n\n\n\n\n\n\n\n\n\n\n\n\n¡Disfruta de los “La engañosa belleza de las plantas invasoras en las dunas de la playa Salvé”!\nDescubre Cantabria informa de que los diferentes eventos publicados se ofrecen a modo informativo\, no siendo Descubre Cantabria responsable de los problemas o daños causados por erratas o incorrecciones de los mismos.
URL:https://descubrecantabria.info/evento/la-enganosa-belleza-de-las-plantas-invasoras-en-las-dunas-de-la-playa-salve/
LOCATION:Paseo Maritimo (Laredo)\, Avenida de Cantabria\, Laredo\, Cantabria\, 39770\, Spain
CATEGORIES:Talleres
ATTACH;FMTTYPE=image/webp:https://descubrecantabria.info/wp-content/uploads/2025/10/eventos-cantabria-la-enganosa-belleza-de-las-plantas-invasoras-en-las-dunas-de-la-playa-salve_11zon.webp
END:VEVENT
END:VCALENDAR