BEGIN:VCALENDAR
VERSION:2.0
PRODID:-//Guía oficial de Cantabria | Turismo | Descubre Cantabria - ECPv6.15.20//NONSGML v1.0//EN
CALSCALE:GREGORIAN
METHOD:PUBLISH
X-WR-CALNAME:Guía oficial de Cantabria | Turismo | Descubre Cantabria
X-ORIGINAL-URL:https://descubrecantabria.info
X-WR-CALDESC:Eventos para Guía oficial de Cantabria | Turismo | Descubre Cantabria
REFRESH-INTERVAL;VALUE=DURATION:PT1H
X-Robots-Tag:noindex
X-PUBLISHED-TTL:PT1H
BEGIN:VTIMEZONE
TZID:Europe/Madrid
BEGIN:DAYLIGHT
TZOFFSETFROM:+0100
TZOFFSETTO:+0200
TZNAME:CEST
DTSTART:20250330T010000
END:DAYLIGHT
BEGIN:STANDARD
TZOFFSETFROM:+0200
TZOFFSETTO:+0100
TZNAME:CET
DTSTART:20251026T010000
END:STANDARD
BEGIN:DAYLIGHT
TZOFFSETFROM:+0100
TZOFFSETTO:+0200
TZNAME:CEST
DTSTART:20260329T010000
END:DAYLIGHT
BEGIN:STANDARD
TZOFFSETFROM:+0200
TZOFFSETTO:+0100
TZNAME:CET
DTSTART:20261025T010000
END:STANDARD
BEGIN:DAYLIGHT
TZOFFSETFROM:+0100
TZOFFSETTO:+0200
TZNAME:CEST
DTSTART:20270328T010000
END:DAYLIGHT
BEGIN:STANDARD
TZOFFSETFROM:+0200
TZOFFSETTO:+0100
TZNAME:CET
DTSTART:20271031T010000
END:STANDARD
END:VTIMEZONE
BEGIN:VEVENT
DTSTART;TZID=Europe/Madrid:20260314T100000
DTEND;TZID=Europe/Madrid:20260314T170000
DTSTAMP:20260425T162655
CREATED:20260227T084922Z
LAST-MODIFIED:20260227T084944Z
UID:280966-1773482400-1773507600@descubrecantabria.info
SUMMARY:Mantenimiento y refuerzo de la plantación en Cañeda
DESCRIPTION:¿DE QUÉ TRATA “Mantenimiento y refuerzo de la plantación en Cañeda”?\n  \nDesde 2022\, se han realizado varias plantaciones en la zona de Cañeda\, y este año toca mantenimiento. La actividad tendrá lugar en una antigua cantera de ofitas\, en terrenos degradados que poco a poco se están renaturalizando gracias a la labor de voluntarios y voluntarias. \nDurante la jornada\, repondremos los tubos\, tutores y los árboles que no hayan sobrevivido\, retiraremos protectores en mal estado y aprovecharemos para plantar al menos 50 nuevos individuos\, contribuyendo a diversificar las edades de la plantación existente. Para cerrar\, habrá un picnic gratuito como agradecimiento a la participación y esfuerzo de todos. \n¡Una oportunidad para aportar al bosque\, aprender y disfrutar del aire libre mientras ayudamos a restaurar un entorno que cada vez tiene más valor! \n  \n¡Disfruta de los “Mantenimiento y refuerzo de la plantación en Cañeda”!\nDescubre Cantabria informa de que los diferentes eventos publicados se ofrecen a modo informativo\, no siendo Descubre Cantabria responsable de los problemas o daños causados por erratas o incorrecciones de los mismos.
URL:https://descubrecantabria.info/evento/mantenimiento-y-refuerzo-de-la-plantacion-en-caneda/
LOCATION:Cañeda\, Calle Besaya\, 7\, Cañeda\, Cantabria\, 39491\, Spain
CATEGORIES:Cultura científica,Talleres
ATTACH;FMTTYPE=image/webp:https://descubrecantabria.info/wp-content/uploads/2026/02/eventos-cantabria-mantenimiento-y-refuerzo-de-la-plantacion-en-caneda_11zon.webp
END:VEVENT
END:VCALENDAR