BEGIN:VCALENDAR
VERSION:2.0
PRODID:-//Guía oficial de Cantabria | Turismo | Descubre Cantabria - ECPv6.15.20//NONSGML v1.0//EN
CALSCALE:GREGORIAN
METHOD:PUBLISH
X-WR-CALNAME:Guía oficial de Cantabria | Turismo | Descubre Cantabria
X-ORIGINAL-URL:https://descubrecantabria.info
X-WR-CALDESC:Eventos para Guía oficial de Cantabria | Turismo | Descubre Cantabria
REFRESH-INTERVAL;VALUE=DURATION:PT1H
X-Robots-Tag:noindex
X-PUBLISHED-TTL:PT1H
BEGIN:VTIMEZONE
TZID:Europe/Madrid
BEGIN:DAYLIGHT
TZOFFSETFROM:+0100
TZOFFSETTO:+0200
TZNAME:CEST
DTSTART:20250330T010000
END:DAYLIGHT
BEGIN:STANDARD
TZOFFSETFROM:+0200
TZOFFSETTO:+0100
TZNAME:CET
DTSTART:20251026T010000
END:STANDARD
BEGIN:DAYLIGHT
TZOFFSETFROM:+0100
TZOFFSETTO:+0200
TZNAME:CEST
DTSTART:20260329T010000
END:DAYLIGHT
BEGIN:STANDARD
TZOFFSETFROM:+0200
TZOFFSETTO:+0100
TZNAME:CET
DTSTART:20261025T010000
END:STANDARD
BEGIN:DAYLIGHT
TZOFFSETFROM:+0100
TZOFFSETTO:+0200
TZNAME:CEST
DTSTART:20270328T010000
END:DAYLIGHT
BEGIN:STANDARD
TZOFFSETFROM:+0200
TZOFFSETTO:+0100
TZNAME:CET
DTSTART:20271031T010000
END:STANDARD
END:VTIMEZONE
BEGIN:VEVENT
DTSTART;TZID=Europe/Madrid:20260307T103000
DTEND;TZID=Europe/Madrid:20260307T170000
DTSTAMP:20260421T094649
CREATED:20260305T160436Z
LAST-MODIFIED:20260305T160436Z
UID:281716-1772879400-1772902800@descubrecantabria.info
SUMMARY:Mercado artesanal Ramales de la Victoria 2026
DESCRIPTION:¿DE QUÉ TRATA “Mercado artesanal Ramales de la Victoria 2026”?\n  \nMercado artesanal de prodcutos y artesanos en Ramales de la Victoria. Un evento que durara toda la mañana y podrás disfrutar de un buen ambiente tradicional. \n  \n¡Disfruta de los “Mercado artesanal Ramales de la Victoria 2026”!\nDescubre Cantabria informa de que los diferentes eventos publicados se ofrecen a modo informativo\, no siendo Descubre Cantabria responsable de los problemas o daños causados por erratas o incorrecciones de los mismos.
URL:https://descubrecantabria.info/evento/mercado-artesanal-ramales-de-la-victoria-2026/
LOCATION:Plaza Duques de la Victoria\, Plaza Duques de la Victoria\, s/n\, Ramales de la Victoria\, Cantabria\, 39800\, Spain
CATEGORIES:Ferias,Gastronomía
ATTACH;FMTTYPE=image/webp:https://descubrecantabria.info/wp-content/uploads/2026/03/eventos-cantabria-mercado-artesanal-ramales_11zon.webp
END:VEVENT
END:VCALENDAR