BEGIN:VCALENDAR
VERSION:2.0
PRODID:-//Guía oficial de Cantabria | Turismo | Descubre Cantabria - ECPv6.15.20//NONSGML v1.0//EN
CALSCALE:GREGORIAN
METHOD:PUBLISH
X-WR-CALNAME:Guía oficial de Cantabria | Turismo | Descubre Cantabria
X-ORIGINAL-URL:https://descubrecantabria.info
X-WR-CALDESC:Eventos para Guía oficial de Cantabria | Turismo | Descubre Cantabria
REFRESH-INTERVAL;VALUE=DURATION:PT1H
X-Robots-Tag:noindex
X-PUBLISHED-TTL:PT1H
BEGIN:VTIMEZONE
TZID:Europe/Madrid
BEGIN:DAYLIGHT
TZOFFSETFROM:+0100
TZOFFSETTO:+0200
TZNAME:CEST
DTSTART:20240331T010000
END:DAYLIGHT
BEGIN:STANDARD
TZOFFSETFROM:+0200
TZOFFSETTO:+0100
TZNAME:CET
DTSTART:20241027T010000
END:STANDARD
BEGIN:DAYLIGHT
TZOFFSETFROM:+0100
TZOFFSETTO:+0200
TZNAME:CEST
DTSTART:20250330T010000
END:DAYLIGHT
BEGIN:STANDARD
TZOFFSETFROM:+0200
TZOFFSETTO:+0100
TZNAME:CET
DTSTART:20251026T010000
END:STANDARD
BEGIN:DAYLIGHT
TZOFFSETFROM:+0100
TZOFFSETTO:+0200
TZNAME:CEST
DTSTART:20260329T010000
END:DAYLIGHT
BEGIN:STANDARD
TZOFFSETFROM:+0200
TZOFFSETTO:+0100
TZNAME:CET
DTSTART:20261025T010000
END:STANDARD
END:VTIMEZONE
BEGIN:VEVENT
DTSTART;TZID=Europe/Madrid:20250716T080000
DTEND;TZID=Europe/Madrid:20250716T170000
DTSTAMP:20260420T154915
CREATED:20250716T210132Z
LAST-MODIFIED:20250716T210216Z
UID:264193-1752652800-1752685200@descubrecantabria.info
SUMMARY:Negrita Music Festival 2025
DESCRIPTION:¿DE QUÉ TRATA “Negrita Music Festival 2025”?\n\n\n\n\n\n\n\n\n\n\n\n  \nNegrita Music Festival Santander\, que celebrará su cuarta edición el viernes 29 y el sábado 30 de agosto de 2025 junto a la playa de la Virgen del Mar\, ha anunciado el reparto de los artistas de cada jornada y ha puesto a la venta las entradas de día. \nPor cuarto año consecutivo\, Negrita Music Festival Santander ha diseñado un line-up especialmente pensado para el público joven\, con músicos y cantantes de gran repercusión en la escena urbana\, además de aprovechar un espacio natural de la ciudad como es la zona de la Virgen del Mar para un uso cultural. \nEn el cartel del Negrita Music Festival Santander para 2025 destaca en su primera jornada los conciertos de Villano Antillano\, Pepe y Vizio\, Denna\, Israel B\, DJ Barce\, Soto Asa y Cyril Kamer\, mientras que para la segunda jornada están previstas las actuaciones de Kidd Keo\, Hard Gz\, Aissa\, Alvama Ice\, John Pollon\, Walls y Reality. \nEl festival Negrita Music Festival Santander está organizado por Mouro Producciones y coproducido por Bardinet\, además de contar con el apoyo de instituciones como el Ayuntamiento de Santander o el Gobierno de Cantabria a través de la sociedad pública CANTUR y el patrocinio de empresas privadas como Negrita\, Regma\, Ferroluz\, M&D\, Redytel\, El Águila\, Waka o Blendio. \nLas entradas se pueden adquirir con los descuentos que permite disfrutar el Bono Cultura de la Fundación Santander Creativa\, disponible en la web de El Mercaderío\, donde cada ciudadano\, a través de su DNI y correo electrónico\, puede adquirir un máximo de cuatro bonos a canjear en las empresas culturales adheridas hasta que finalice la campaña.  \nLos bonos se pueden canjear en las oficinas de Mouro Producciones situadas en la Calle Juan José Pérez del Molino 5 (en horario de lunes a jueves de 10.00 horas a 16.00 horas y los viernes de 10.00 a 14.00 horas); en la tienda Plenitude Experience Store situada en la calle Calvo Sotelo 14 de Santander (en horario de de 10.00 a 14.00 horas y de 17.00 a 20.00 horas de lunes a viernes hasta al 26 de julio) y en el punto de venta oficial de El Sardinero (en horario de 12.00 a 15.00 horas y de 17.00 a 22.00 horas hasta el 20 de julio). \n  \n\n\n\n\n\n\n\n\n\n\n\n\n\n\n\n\n\n\n¡Disfruta de los “Negrita Music Festival 2025”!\nDescubre Cantabria informa de que los diferentes eventos publicados se ofrecen a modo informativo\, no siendo Descubre Cantabria responsable de los problemas o daños causados por erratas o incorrecciones de los mismos.
URL:https://descubrecantabria.info/evento/negrita-music-festival-2025/
LOCATION:Virgen del Mar\, Calle Virgen del Mar 0\, Santander\, Cantabria\, 39010\, Spain
CATEGORIES:Música
ATTACH;FMTTYPE=image/webp:https://descubrecantabria.info/wp-content/uploads/2025/07/eventos-santander-negrito-music-festival-2025_11zon.webp
END:VEVENT
END:VCALENDAR