BEGIN:VCALENDAR
VERSION:2.0
PRODID:-//Guía oficial de Cantabria | Turismo | Descubre Cantabria - ECPv6.15.20//NONSGML v1.0//EN
CALSCALE:GREGORIAN
METHOD:PUBLISH
X-WR-CALNAME:Guía oficial de Cantabria | Turismo | Descubre Cantabria
X-ORIGINAL-URL:https://descubrecantabria.info
X-WR-CALDESC:Eventos para Guía oficial de Cantabria | Turismo | Descubre Cantabria
REFRESH-INTERVAL;VALUE=DURATION:PT1H
X-Robots-Tag:noindex
X-PUBLISHED-TTL:PT1H
BEGIN:VTIMEZONE
TZID:Europe/Madrid
BEGIN:DAYLIGHT
TZOFFSETFROM:+0100
TZOFFSETTO:+0200
TZNAME:CEST
DTSTART:20250330T010000
END:DAYLIGHT
BEGIN:STANDARD
TZOFFSETFROM:+0200
TZOFFSETTO:+0100
TZNAME:CET
DTSTART:20251026T010000
END:STANDARD
BEGIN:DAYLIGHT
TZOFFSETFROM:+0100
TZOFFSETTO:+0200
TZNAME:CEST
DTSTART:20260329T010000
END:DAYLIGHT
BEGIN:STANDARD
TZOFFSETFROM:+0200
TZOFFSETTO:+0100
TZNAME:CET
DTSTART:20261025T010000
END:STANDARD
BEGIN:DAYLIGHT
TZOFFSETFROM:+0100
TZOFFSETTO:+0200
TZNAME:CEST
DTSTART:20270328T010000
END:DAYLIGHT
BEGIN:STANDARD
TZOFFSETFROM:+0200
TZOFFSETTO:+0100
TZNAME:CET
DTSTART:20271031T010000
END:STANDARD
END:VTIMEZONE
BEGIN:VEVENT
DTSTART;TZID=Europe/Madrid:20260501T093000
DTEND;TZID=Europe/Madrid:20260501T170000
DTSTAMP:20260426T052743
CREATED:20260424T124935Z
LAST-MODIFIED:20260424T124947Z
UID:25989762-1777627800-1777654800@descubrecantabria.info
SUMMARY:Pasabolo | Final copa Presidenta 2026
DESCRIPTION:¿DE QUÉ TRATA “Pasabolo | Final copa Presidenta 2026”?\n  \nUno de los campeonatos más potentes del calendario de Pasabolo tablón. Un escenario de película. Si eres de aquí tienes que venir. Si no eres de aquí\, ven y no te lo pierdas. \nEl pasabolo es una modalidad de bolos de la zona poco conocida en otras áreas de Cantabria y que sorprende por la espectacularidad de la potencia empleada para lanzar los pinaos en hilera lo más lejos posible. \nAquí no hay birle\, hay fuerza y emoción. La copa Presidenta \n  \n¡Disfruta de los “Pasabolo | Final copa Presidenta 2026”!\nDescubre Cantabria informa de que los diferentes eventos publicados se ofrecen a modo informativo\, no siendo Descubre Cantabria responsable de los problemas o daños causados por erratas o incorrecciones de los mismos.
URL:https://descubrecantabria.info/evento/pasabolo-final-copa-presidenta-2026/
LOCATION:Bolera de San Pedruco (Ampuero)\, Calle la Nogalera\, 1A\, Ampuero\, Cantabria\, 39840\, Spain
CATEGORIES:Deportes
ATTACH;FMTTYPE=image/webp:https://descubrecantabria.info/wp-content/uploads/2026/04/eventos-cantabria-final-copa-presidenta-2026_11zon-1.webp
END:VEVENT
END:VCALENDAR