BEGIN:VCALENDAR
VERSION:2.0
PRODID:-//Guía oficial de Cantabria | Turismo | Descubre Cantabria - ECPv6.15.20//NONSGML v1.0//EN
CALSCALE:GREGORIAN
METHOD:PUBLISH
X-WR-CALNAME:Guía oficial de Cantabria | Turismo | Descubre Cantabria
X-ORIGINAL-URL:https://descubrecantabria.info
X-WR-CALDESC:Eventos para Guía oficial de Cantabria | Turismo | Descubre Cantabria
REFRESH-INTERVAL;VALUE=DURATION:PT1H
X-Robots-Tag:noindex
X-PUBLISHED-TTL:PT1H
BEGIN:VTIMEZONE
TZID:Europe/Madrid
BEGIN:DAYLIGHT
TZOFFSETFROM:+0100
TZOFFSETTO:+0200
TZNAME:CEST
DTSTART:20250330T010000
END:DAYLIGHT
BEGIN:STANDARD
TZOFFSETFROM:+0200
TZOFFSETTO:+0100
TZNAME:CET
DTSTART:20251026T010000
END:STANDARD
BEGIN:DAYLIGHT
TZOFFSETFROM:+0100
TZOFFSETTO:+0200
TZNAME:CEST
DTSTART:20260329T010000
END:DAYLIGHT
BEGIN:STANDARD
TZOFFSETFROM:+0200
TZOFFSETTO:+0100
TZNAME:CET
DTSTART:20261025T010000
END:STANDARD
BEGIN:DAYLIGHT
TZOFFSETFROM:+0100
TZOFFSETTO:+0200
TZNAME:CEST
DTSTART:20270328T010000
END:DAYLIGHT
BEGIN:STANDARD
TZOFFSETFROM:+0200
TZOFFSETTO:+0100
TZNAME:CET
DTSTART:20271031T010000
END:STANDARD
END:VTIMEZONE
BEGIN:VEVENT
DTSTART;TZID=Europe/Madrid:20260428T113000
DTEND;TZID=Europe/Madrid:20260428T170000
DTSTAMP:20260426T053402
CREATED:20260424T123611Z
LAST-MODIFIED:20260424T123637Z
UID:25989756-1777375800-1777395600@descubrecantabria.info
SUMMARY:Paseo saludable hasta ermita del Cristo
DESCRIPTION:¿DE QUÉ TRATA “Paseo saludable hasta ermita del Cristo”?\n  \nPaseo saludable\, caminamos juntos por la naturaleza. Aparcaremos los coches en el alto de Garzón y realizaremos una ruta circular hasta la ermita del Cristo\, disfrutando del paseo saludable en buena compañía. Se realizará a un ritmo tranquilo. \n  \n¡Disfruta de los “Paseo saludable hasta ermita del Cristo”!\nDescubre Cantabria informa de que los diferentes eventos publicados se ofrecen a modo informativo\, no siendo Descubre Cantabria responsable de los problemas o daños causados por erratas o incorrecciones de los mismos.
URL:https://descubrecantabria.info/evento/paseo-saludable-hasta-ermita-del-cristo/
LOCATION:Alto de Garzon\, Barrio Garzón\, s/n\, Ribamontan al Monte\, Cantabria\, 39738\, Spain
CATEGORIES:Deportes
ATTACH;FMTTYPE=image/webp:https://descubrecantabria.info/wp-content/uploads/2026/04/eventos-cantabria-paseo-saludable-caminamos-juntos-por-la-naturaleza_11zon-1.webp
END:VEVENT
END:VCALENDAR