BEGIN:VCALENDAR
VERSION:2.0
PRODID:-//Guía oficial de Cantabria | Turismo | Descubre Cantabria - ECPv6.15.20//NONSGML v1.0//EN
CALSCALE:GREGORIAN
METHOD:PUBLISH
X-WR-CALNAME:Guía oficial de Cantabria | Turismo | Descubre Cantabria
X-ORIGINAL-URL:https://descubrecantabria.info
X-WR-CALDESC:Eventos para Guía oficial de Cantabria | Turismo | Descubre Cantabria
REFRESH-INTERVAL;VALUE=DURATION:PT1H
X-Robots-Tag:noindex
X-PUBLISHED-TTL:PT1H
BEGIN:VTIMEZONE
TZID:Europe/Madrid
BEGIN:DAYLIGHT
TZOFFSETFROM:+0100
TZOFFSETTO:+0200
TZNAME:CEST
DTSTART:20250330T010000
END:DAYLIGHT
BEGIN:STANDARD
TZOFFSETFROM:+0200
TZOFFSETTO:+0100
TZNAME:CET
DTSTART:20251026T010000
END:STANDARD
BEGIN:DAYLIGHT
TZOFFSETFROM:+0100
TZOFFSETTO:+0200
TZNAME:CEST
DTSTART:20260329T010000
END:DAYLIGHT
BEGIN:STANDARD
TZOFFSETFROM:+0200
TZOFFSETTO:+0100
TZNAME:CET
DTSTART:20261025T010000
END:STANDARD
BEGIN:DAYLIGHT
TZOFFSETFROM:+0100
TZOFFSETTO:+0200
TZNAME:CEST
DTSTART:20270328T010000
END:DAYLIGHT
BEGIN:STANDARD
TZOFFSETFROM:+0200
TZOFFSETTO:+0100
TZNAME:CET
DTSTART:20271031T010000
END:STANDARD
END:VTIMEZONE
BEGIN:VEVENT
DTSTART;TZID=Europe/Madrid:20260318T180000
DTEND;TZID=Europe/Madrid:20260318T180000
DTSTAMP:20260423T124702
CREATED:20260225T183429Z
LAST-MODIFIED:20260225T183440Z
UID:280555-1773856800-1773856800@descubrecantabria.info
SUMMARY:Pequechef | Canapés variados
DESCRIPTION:¿DE QUÉ TRATA “Pequechef | Canapés variados”?\n  \nEdades: de 7 a 11 años (primaria) Actividad GRATUITA. Plazas limitadas\, inscripciones abiertas desde una semana antes hasta los lunes a las 12 h. \nAviso: Dos días antes de la actividad (los lunes por la tarde)\, contactaremos sólo con las personas que hayan obtenido plaza. \nImprescindible inscribirse: 942 52 26 85 \n  \n¡Disfruta de los “Pequechef | Canapés variados”!\n  \nEncuentra todos los eventos de Solares aquí. \nDescubre Cantabria informa de que los diferentes eventos publicados se ofrecen a modo informativo\, no siendo Descubre Cantabria responsable de los problemas o daños causados por erratas o incorrecciones de los mismos.
URL:https://descubrecantabria.info/evento/pequechef-canapes-variados/
LOCATION:Centro Cultural Ramon Pelayo\, Paseo la Ventilla\, 8\, Solares\, Cantabria\, 39710\, Spain
CATEGORIES:Infantil,Talleres
ATTACH;FMTTYPE=image/webp:https://descubrecantabria.info/wp-content/uploads/2026/02/eventos-solares-pequechef-canapes-variados_11zon.webp
END:VEVENT
END:VCALENDAR