BEGIN:VCALENDAR
VERSION:2.0
PRODID:-//Guía oficial de Cantabria | Turismo | Descubre Cantabria - ECPv6.15.20//NONSGML v1.0//EN
CALSCALE:GREGORIAN
METHOD:PUBLISH
X-WR-CALNAME:Guía oficial de Cantabria | Turismo | Descubre Cantabria
X-ORIGINAL-URL:https://descubrecantabria.info
X-WR-CALDESC:Eventos para Guía oficial de Cantabria | Turismo | Descubre Cantabria
REFRESH-INTERVAL;VALUE=DURATION:PT1H
X-Robots-Tag:noindex
X-PUBLISHED-TTL:PT1H
BEGIN:VTIMEZONE
TZID:Europe/Madrid
BEGIN:DAYLIGHT
TZOFFSETFROM:+0100
TZOFFSETTO:+0200
TZNAME:CEST
DTSTART:20250330T010000
END:DAYLIGHT
BEGIN:STANDARD
TZOFFSETFROM:+0200
TZOFFSETTO:+0100
TZNAME:CET
DTSTART:20251026T010000
END:STANDARD
BEGIN:DAYLIGHT
TZOFFSETFROM:+0100
TZOFFSETTO:+0200
TZNAME:CEST
DTSTART:20260329T010000
END:DAYLIGHT
BEGIN:STANDARD
TZOFFSETFROM:+0200
TZOFFSETTO:+0100
TZNAME:CET
DTSTART:20261025T010000
END:STANDARD
BEGIN:DAYLIGHT
TZOFFSETFROM:+0100
TZOFFSETTO:+0200
TZNAME:CEST
DTSTART:20270328T010000
END:DAYLIGHT
BEGIN:STANDARD
TZOFFSETFROM:+0200
TZOFFSETTO:+0100
TZNAME:CET
DTSTART:20271031T010000
END:STANDARD
END:VTIMEZONE
BEGIN:VEVENT
DTSTART;TZID=Europe/Madrid:20260320T183000
DTEND;TZID=Europe/Madrid:20260320T183000
DTSTAMP:20260422T110017
CREATED:20260316T105615Z
LAST-MODIFIED:20260316T105634Z
UID:24845622-1774031400-1774031400@descubrecantabria.info
SUMMARY:Presentación de los libros sobre "Las Guerras Cántabras"
DESCRIPTION:¿DE QUÉ TRATA “Presentación de los libros sobre “Las Guerras Cántabras””?\n  \nEl próximo 20 de marzo a las 18:30 en el Salón de Actos de la Casa de Cultura de Colindres se presentarán 5 libros sobre las Guerras Cántabras\, junto a sus autores. Una presentación tertulia que pinta de lo más interesante. \n  \n¡Disfruta de los “Presentación de los libros sobre “Las Guerras Cantabras””!\nDescubre Cantabria informa de que los diferentes eventos publicados se ofrecen a modo informativo\, no siendo Descubre Cantabria responsable de los problemas o daños causados por erratas o incorrecciones de los mismos.
URL:https://descubrecantabria.info/evento/presentacion-de-los-libros-sobre-las-guerras-cantabras/
LOCATION:Casa Cultural de Colindres\, Alameda Ayuntamiento 2\, Colindres\, Cantabria\, 39750\, Spain
CATEGORIES:Literatura
ATTACH;FMTTYPE=image/webp:https://descubrecantabria.info/wp-content/uploads/2026/03/eventos-cantabria-presentacion-de-los-libros-sobre-guerras-cantabras_11zon.webp
END:VEVENT
END:VCALENDAR