BEGIN:VCALENDAR
VERSION:2.0
PRODID:-//Guía oficial de Cantabria | Turismo | Descubre Cantabria - ECPv6.15.20//NONSGML v1.0//EN
CALSCALE:GREGORIAN
METHOD:PUBLISH
X-WR-CALNAME:Guía oficial de Cantabria | Turismo | Descubre Cantabria
X-ORIGINAL-URL:https://descubrecantabria.info
X-WR-CALDESC:Eventos para Guía oficial de Cantabria | Turismo | Descubre Cantabria
REFRESH-INTERVAL;VALUE=DURATION:PT1H
X-Robots-Tag:noindex
X-PUBLISHED-TTL:PT1H
BEGIN:VTIMEZONE
TZID:Europe/Madrid
BEGIN:DAYLIGHT
TZOFFSETFROM:+0100
TZOFFSETTO:+0200
TZNAME:CEST
DTSTART:20250330T010000
END:DAYLIGHT
BEGIN:STANDARD
TZOFFSETFROM:+0200
TZOFFSETTO:+0100
TZNAME:CET
DTSTART:20251026T010000
END:STANDARD
BEGIN:DAYLIGHT
TZOFFSETFROM:+0100
TZOFFSETTO:+0200
TZNAME:CEST
DTSTART:20260329T010000
END:DAYLIGHT
BEGIN:STANDARD
TZOFFSETFROM:+0200
TZOFFSETTO:+0100
TZNAME:CET
DTSTART:20261025T010000
END:STANDARD
BEGIN:DAYLIGHT
TZOFFSETFROM:+0100
TZOFFSETTO:+0200
TZNAME:CEST
DTSTART:20270328T010000
END:DAYLIGHT
BEGIN:STANDARD
TZOFFSETFROM:+0200
TZOFFSETTO:+0100
TZNAME:CET
DTSTART:20271031T010000
END:STANDARD
END:VTIMEZONE
BEGIN:VEVENT
DTSTART;TZID=Europe/Madrid:20260523T190000
DTEND;TZID=Europe/Madrid:20260523T190000
DTSTAMP:20260422T120945
CREATED:20260226T111304Z
LAST-MODIFIED:20260226T111318Z
UID:280694-1779562800-1779562800@descubrecantabria.info
SUMMARY:Representación Melocotón en almíbar
DESCRIPTION:¿DE QUÉ TRATA “Representación Melocotón en almíbar”?\n  \nMadrid\, 1960. Una banda de delincuentes se esconde en un piso alquilado tras su último robo. Uno de ellos cae enfermo y la casera envía a un médico para atenderle\, lo que provoca la llegada de una enfermera que se quedará unos días con ellos.  \nSin embargo\, la supuesta enfermera resulta ser en realidad una monja con espíritu de detective\, lo que dará un giro inesperado y lleno de enredos a esta historia. \n  \n¡Disfruta de los “Representación Melocotón en almíbar”!\n  \nEncuentra todos los eventos de Marina de Cudeyo aquí. \nDescubre Cantabria informa de que los diferentes eventos publicados se ofrecen a modo informativo\, no siendo Descubre Cantabria responsable de los problemas o daños causados por erratas o incorrecciones de los mismos.
URL:https://descubrecantabria.info/evento/representacion-melocoton-en-almibar/
LOCATION:Teatro Orejo\, Barrio la Capilla\, s/n\, Orejo\, Cantabria\, 39719\, Spain
CATEGORIES:Artes escénicas
ATTACH;FMTTYPE=image/webp:https://descubrecantabria.info/wp-content/uploads/2026/02/eventos-marina-de-cudeyo-melocoton-en-almibar_11zon.webp
END:VEVENT
END:VCALENDAR