BEGIN:VCALENDAR
VERSION:2.0
PRODID:-//Guía oficial de Cantabria | Turismo | Descubre Cantabria - ECPv6.15.20//NONSGML v1.0//EN
CALSCALE:GREGORIAN
METHOD:PUBLISH
X-WR-CALNAME:Guía oficial de Cantabria | Turismo | Descubre Cantabria
X-ORIGINAL-URL:https://descubrecantabria.info
X-WR-CALDESC:Eventos para Guía oficial de Cantabria | Turismo | Descubre Cantabria
REFRESH-INTERVAL;VALUE=DURATION:PT1H
X-Robots-Tag:noindex
X-PUBLISHED-TTL:PT1H
BEGIN:VTIMEZONE
TZID:Europe/Madrid
BEGIN:DAYLIGHT
TZOFFSETFROM:+0100
TZOFFSETTO:+0200
TZNAME:CEST
DTSTART:20250330T010000
END:DAYLIGHT
BEGIN:STANDARD
TZOFFSETFROM:+0200
TZOFFSETTO:+0100
TZNAME:CET
DTSTART:20251026T010000
END:STANDARD
BEGIN:DAYLIGHT
TZOFFSETFROM:+0100
TZOFFSETTO:+0200
TZNAME:CEST
DTSTART:20260329T010000
END:DAYLIGHT
BEGIN:STANDARD
TZOFFSETFROM:+0200
TZOFFSETTO:+0100
TZNAME:CET
DTSTART:20261025T010000
END:STANDARD
BEGIN:DAYLIGHT
TZOFFSETFROM:+0100
TZOFFSETTO:+0200
TZNAME:CEST
DTSTART:20270328T010000
END:DAYLIGHT
BEGIN:STANDARD
TZOFFSETFROM:+0200
TZOFFSETTO:+0100
TZNAME:CET
DTSTART:20271031T010000
END:STANDARD
END:VTIMEZONE
BEGIN:VEVENT
DTSTART;TZID=Europe/Madrid:20260516T100000
DTEND;TZID=Europe/Madrid:20260516T170000
DTSTAMP:20260422T235304
CREATED:20260327T123601Z
LAST-MODIFIED:20260327T123623Z
UID:24847005-1778925600-1778950800@descubrecantabria.info
SUMMARY:Taller artístico Sumi- E Bambú
DESCRIPTION:¿DE QUÉ TRATA “Taller artístico Sumi- E Bambú”?\n  \nTaller artístico Sumi- E Bambú en la escuela Garanza Arte impartido por Beatriz Hoyos\, artista y analista plástica con 28 años de experiencia docente. \nNecesaria la inscripción y reserva previa de plaza mediante el abono del 50 % del coste del taller. \n 7 plazas disponibles (adultos). \nSe incluyen todos los materiales. \nTeléfono de contacto: 619 387 500. \nPuedes encontrar todos los eventos en Santander aquí. \n  \n¡Disfruta de los “Taller artístico Sumi- E Bambú”!\nDescubre Cantabria informa de que los diferentes eventos publicados se ofrecen a modo informativo\, no siendo Descubre Cantabria responsable de los problemas o daños causados por erratas o incorrecciones de los mismos.
URL:https://descubrecantabria.info/evento/taller-artistico-sumi-e-bambu/
LOCATION:Garanza\, Calle Montejurra 8\, Santander\, Cantabria\, 39010\, Spain
CATEGORIES:Talleres
ATTACH;FMTTYPE=image/webp:https://descubrecantabria.info/wp-content/uploads/2026/03/eventos-santander-taller-artistico-sumi-e-bambu_11zon.webp
END:VEVENT
END:VCALENDAR