BEGIN:VCALENDAR
VERSION:2.0
PRODID:-//Guía oficial de Cantabria | Turismo | Descubre Cantabria - ECPv6.15.20//NONSGML v1.0//EN
CALSCALE:GREGORIAN
METHOD:PUBLISH
X-WR-CALNAME:Guía oficial de Cantabria | Turismo | Descubre Cantabria
X-ORIGINAL-URL:https://descubrecantabria.info
X-WR-CALDESC:Eventos para Guía oficial de Cantabria | Turismo | Descubre Cantabria
REFRESH-INTERVAL;VALUE=DURATION:PT1H
X-Robots-Tag:noindex
X-PUBLISHED-TTL:PT1H
BEGIN:VTIMEZONE
TZID:Europe/Madrid
BEGIN:DAYLIGHT
TZOFFSETFROM:+0100
TZOFFSETTO:+0200
TZNAME:CEST
DTSTART:20250330T010000
END:DAYLIGHT
BEGIN:STANDARD
TZOFFSETFROM:+0200
TZOFFSETTO:+0100
TZNAME:CET
DTSTART:20251026T010000
END:STANDARD
BEGIN:DAYLIGHT
TZOFFSETFROM:+0100
TZOFFSETTO:+0200
TZNAME:CEST
DTSTART:20260329T010000
END:DAYLIGHT
BEGIN:STANDARD
TZOFFSETFROM:+0200
TZOFFSETTO:+0100
TZNAME:CET
DTSTART:20261025T010000
END:STANDARD
BEGIN:DAYLIGHT
TZOFFSETFROM:+0100
TZOFFSETTO:+0200
TZNAME:CEST
DTSTART:20270328T010000
END:DAYLIGHT
BEGIN:STANDARD
TZOFFSETFROM:+0200
TZOFFSETTO:+0100
TZNAME:CET
DTSTART:20271031T010000
END:STANDARD
END:VTIMEZONE
BEGIN:VEVENT
DTSTART;TZID=Europe/Madrid:20260321T090000
DTEND;TZID=Europe/Madrid:20260321T170000
DTSTAMP:20260423T094736
CREATED:20260303T164934Z
LAST-MODIFIED:20260303T164952Z
UID:281374-1774083600-1774112400@descubrecantabria.info
SUMMARY:Taller construcción de cajas nido
DESCRIPTION:¿DE QUÉ TRATA “Taller construcción de cajas nido”?\n  \nAgenda Ecoturismo | Taller: Construcción de Cajas Nido y Comederos para Aves. 9:00 a 14:00. Imparte: Bruno Palazuelos Berasategui \nEn esta jornada teórico-práctica (duración aproximada de 5 horas) aprenderemos a diseñar y construir cajas nido\, comederos para aves y refugios para polinizadores\, contribuyendo activamente a la conservación de la biodiversidad de nuestro entorno. \nDurante el taller conoceremos la importancia de estos elementos para la fauna local y trabajaremos de forma práctica en su elaboración. Cada participante se llevará a casa los materiales que construya\, listos para instalar y favorecer la fauna en su propio espacio. \nRecomendable: ropa cómoda que se pueda manchar. Más info y reservas: info@bahiasantander.es \n  \n¡Disfruta de los “Taller construcción de cajas nido”!\nDescubre Cantabria informa de que los diferentes eventos publicados se ofrecen a modo informativo\, no siendo Descubre Cantabria responsable de los problemas o daños causados por erratas o incorrecciones de los mismos.
URL:https://descubrecantabria.info/evento/taller-construccion-de-cajas-nido/
LOCATION:Centro Cultural Gajano\, Barrio Presmanes\, 86\, Gajano\, Cantabria\, 39792\, Spain
CATEGORIES:Talleres
ATTACH;FMTTYPE=image/webp:https://descubrecantabria.info/wp-content/uploads/2026/03/eventos-cantabria-taller-construccion-cajas-nido_11zon.webp
END:VEVENT
END:VCALENDAR