BEGIN:VCALENDAR
VERSION:2.0
PRODID:-//Guía oficial de Cantabria | Turismo | Descubre Cantabria - ECPv6.15.20//NONSGML v1.0//EN
CALSCALE:GREGORIAN
METHOD:PUBLISH
X-WR-CALNAME:Guía oficial de Cantabria | Turismo | Descubre Cantabria
X-ORIGINAL-URL:https://descubrecantabria.info
X-WR-CALDESC:Eventos para Guía oficial de Cantabria | Turismo | Descubre Cantabria
REFRESH-INTERVAL;VALUE=DURATION:PT1H
X-Robots-Tag:noindex
X-PUBLISHED-TTL:PT1H
BEGIN:VTIMEZONE
TZID:Europe/Madrid
BEGIN:DAYLIGHT
TZOFFSETFROM:+0100
TZOFFSETTO:+0200
TZNAME:CEST
DTSTART:20250330T010000
END:DAYLIGHT
BEGIN:STANDARD
TZOFFSETFROM:+0200
TZOFFSETTO:+0100
TZNAME:CET
DTSTART:20251026T010000
END:STANDARD
BEGIN:DAYLIGHT
TZOFFSETFROM:+0100
TZOFFSETTO:+0200
TZNAME:CEST
DTSTART:20260329T010000
END:DAYLIGHT
BEGIN:STANDARD
TZOFFSETFROM:+0200
TZOFFSETTO:+0100
TZNAME:CET
DTSTART:20261025T010000
END:STANDARD
BEGIN:DAYLIGHT
TZOFFSETFROM:+0100
TZOFFSETTO:+0200
TZNAME:CEST
DTSTART:20270328T010000
END:DAYLIGHT
BEGIN:STANDARD
TZOFFSETFROM:+0200
TZOFFSETTO:+0100
TZNAME:CET
DTSTART:20271031T010000
END:STANDARD
END:VTIMEZONE
BEGIN:VEVENT
DTSTART;TZID=Europe/Madrid:20260307T110000
DTEND;TZID=Europe/Madrid:20260307T170000
DTSTAMP:20260423T084116
CREATED:20260305T193312Z
LAST-MODIFIED:20260305T193325Z
UID:281832-1772881200-1772902800@descubrecantabria.info
SUMMARY:Taller de acuarela a cargo de Claudia Iza
DESCRIPTION:¿DE QUÉ TRATA “Taller de acuarela a cargo de Claudia Iza”?\n  \nTaller de acuarela para adultos a cargo de Claudia Iza. el sábado 7 de marzo\, de 11:00 h a 12:30h. Todos los materiales incluidos. Precio: 15€. Imprescindible reservar plaza en: 942 337903/ info@libreriagil.es  \nA partir de 9 años. \nLa artista está licenciada en bellas artes y\, actualmente\, imparte clases de dibujo\, pintura\, ilustración y manualidades en El Taller de las Artes\, un espacio dedicado a gente de todas las edades con talleres de dibujo\, pintura\, ilustración\, grabado\, fotografía\, nuevas tecnologías\, photoshop\, etc. \n  \n¡Disfruta de los “Taller de acuarela a cargo de Claudia Iza”!\nDescubre Cantabria informa de que los diferentes eventos publicados se ofrecen a modo informativo\, no siendo Descubre Cantabria responsable de los problemas o daños causados por erratas o incorrecciones de los mismos.
URL:https://descubrecantabria.info/evento/taller-de-acuarela-a-cargo-de-claudia-iza/
LOCATION:Libreria Gil\, Calle Hernán Cortés\, 33\, Santander\, Cantabria\, 39010\, Spain
CATEGORIES:Talleres
ATTACH;FMTTYPE=image/webp:https://descubrecantabria.info/wp-content/uploads/2026/03/eventos-santander-taller-de-acuarela-a-cargo-de-claudia-iza_11zon.webp
END:VEVENT
END:VCALENDAR