BEGIN:VCALENDAR
VERSION:2.0
PRODID:-//Guía oficial de Cantabria | Turismo | Descubre Cantabria - ECPv6.15.20//NONSGML v1.0//EN
CALSCALE:GREGORIAN
METHOD:PUBLISH
X-WR-CALNAME:Guía oficial de Cantabria | Turismo | Descubre Cantabria
X-ORIGINAL-URL:https://descubrecantabria.info
X-WR-CALDESC:Eventos para Guía oficial de Cantabria | Turismo | Descubre Cantabria
REFRESH-INTERVAL;VALUE=DURATION:PT1H
X-Robots-Tag:noindex
X-PUBLISHED-TTL:PT1H
BEGIN:VTIMEZONE
TZID:Europe/Madrid
BEGIN:DAYLIGHT
TZOFFSETFROM:+0100
TZOFFSETTO:+0200
TZNAME:CEST
DTSTART:20250330T010000
END:DAYLIGHT
BEGIN:STANDARD
TZOFFSETFROM:+0200
TZOFFSETTO:+0100
TZNAME:CET
DTSTART:20251026T010000
END:STANDARD
BEGIN:DAYLIGHT
TZOFFSETFROM:+0100
TZOFFSETTO:+0200
TZNAME:CEST
DTSTART:20260329T010000
END:DAYLIGHT
BEGIN:STANDARD
TZOFFSETFROM:+0200
TZOFFSETTO:+0100
TZNAME:CET
DTSTART:20261025T010000
END:STANDARD
BEGIN:DAYLIGHT
TZOFFSETFROM:+0100
TZOFFSETTO:+0200
TZNAME:CEST
DTSTART:20270328T010000
END:DAYLIGHT
BEGIN:STANDARD
TZOFFSETFROM:+0200
TZOFFSETTO:+0100
TZNAME:CET
DTSTART:20271031T010000
END:STANDARD
END:VTIMEZONE
BEGIN:VEVENT
DTSTART;TZID=Europe/Madrid:20260411T100000
DTEND;TZID=Europe/Madrid:20260411T170000
DTSTAMP:20260423T070436
CREATED:20260325T160135Z
LAST-MODIFIED:20260325T160240Z
UID:24846614-1775901600-1775926800@descubrecantabria.info
SUMMARY:Taller de Cajas – Nido para pequeños pesiformes en zonas verdes urbanas en Liendo
DESCRIPTION:¿DE QUÉ TRATA “Taller de Cajas – Nido para pequeños pesiformes en zonas verdes urbanas en Liendo”?\n  \n\n\nSe realizará una charla sobre el uso de las cajas-nido como herramienta de conservación y con ayuda de voluntarios se fabricarán hasta 50 cajas-nido para pequeños paseriformes. \n\nImprescindible inscripción previa. \n\nRopa y calzado adecuado a las condiciones meteorológicas y actividades en la naturaleza\n\n\n  \n¡Disfruta de los “Taller de Cajas – Nido para pequeños pesiformes en zonas verdes urbanas en Liendo”!\nDescubre Cantabria informa de que los diferentes eventos publicados se ofrecen a modo informativo\, no siendo Descubre Cantabria responsable de los problemas o daños causados por erratas o incorrecciones de los mismos.
URL:https://descubrecantabria.info/evento/taller-de-cajas-nido-para-pequenos-pesiformes-en-zonas-verdes-urbanas-en-liendo/
LOCATION:Sala multiusos Liendo\, Barrio Hazas\, 64\, Liendo\, Cantabria\, 39776\, Spain
CATEGORIES:Talleres
ATTACH;FMTTYPE=image/webp:https://descubrecantabria.info/wp-content/uploads/2026/03/eventos-cantabria-taller-cajas-nido-para-pequenos-pesiformes-liendo_11zon.webp
END:VEVENT
END:VCALENDAR