BEGIN:VCALENDAR
VERSION:2.0
PRODID:-//Guía oficial de Cantabria | Turismo | Descubre Cantabria - ECPv6.15.20//NONSGML v1.0//EN
CALSCALE:GREGORIAN
METHOD:PUBLISH
X-WR-CALNAME:Guía oficial de Cantabria | Turismo | Descubre Cantabria
X-ORIGINAL-URL:https://descubrecantabria.info
X-WR-CALDESC:Eventos para Guía oficial de Cantabria | Turismo | Descubre Cantabria
REFRESH-INTERVAL;VALUE=DURATION:PT1H
X-Robots-Tag:noindex
X-PUBLISHED-TTL:PT1H
BEGIN:VTIMEZONE
TZID:Europe/Madrid
BEGIN:DAYLIGHT
TZOFFSETFROM:+0100
TZOFFSETTO:+0200
TZNAME:CEST
DTSTART:20250330T010000
END:DAYLIGHT
BEGIN:STANDARD
TZOFFSETFROM:+0200
TZOFFSETTO:+0100
TZNAME:CET
DTSTART:20251026T010000
END:STANDARD
BEGIN:DAYLIGHT
TZOFFSETFROM:+0100
TZOFFSETTO:+0200
TZNAME:CEST
DTSTART:20260329T010000
END:DAYLIGHT
BEGIN:STANDARD
TZOFFSETFROM:+0200
TZOFFSETTO:+0100
TZNAME:CET
DTSTART:20261025T010000
END:STANDARD
BEGIN:DAYLIGHT
TZOFFSETFROM:+0100
TZOFFSETTO:+0200
TZNAME:CEST
DTSTART:20270328T010000
END:DAYLIGHT
BEGIN:STANDARD
TZOFFSETFROM:+0200
TZOFFSETTO:+0100
TZNAME:CET
DTSTART:20271031T010000
END:STANDARD
END:VTIMEZONE
BEGIN:VEVENT
DTSTART;TZID=Europe/Madrid:20260313T170000
DTEND;TZID=Europe/Madrid:20260313T170000
DTSTAMP:20260425T145424
CREATED:20260304T184858Z
LAST-MODIFIED:20260304T184913Z
UID:281613-1773421200-1773421200@descubrecantabria.info
SUMMARY:Taller de cartonaje Santander 2026
DESCRIPTION:¿DE QUÉ TRATA “Taller de cartonaje Santander 2026”?\n  \nArtpapel Bookstudio es el santuario de los amantes de los libros bellos\, raros y singulares. Situado en la Calle Cardenal Cisneros 31\, es un lugar donde encontrar una cuidada selección de libros ilustrados\, de diseño\, de tirada limitada y libros objeto. Además es un espacio donde aprender el arte de la restauración de libros y documentos y de la encuadernación artesanal.  \nEl 13 de marzo se impartirá un taller de cartonaje. Construye tu set de escritorio hecho a medida para organizar tus objetos de escritura y trabajo. De 17.00 a 20.00h. Coste 45 euros\, materiales incluidos. \nCada taller tiene un coste de 45 euros materiales incluidos\, también se puede comprar un bono de 4 talleres al precio de 150 euros\, con validez de 6 meses. \nInformaciones y reservas en: \nartpapelgiuliano@gmail.com o al 605683898 \nwww.artpapelbookstudio.com \n  \n¡Disfruta de los “Taller de cartonaje Santander 2026”!\nDescubre Cantabria informa de que los diferentes eventos publicados se ofrecen a modo informativo\, no siendo Descubre Cantabria responsable de los problemas o daños causados por erratas o incorrecciones de los mismos.
URL:https://descubrecantabria.info/evento/taller-de-cartonaje-santander-2026/
LOCATION:ArtPapel BookStudio\, Calle Cisneros 31\, Santander\, Cantabria\, 39010\, Spain
CATEGORIES:Talleres
ATTACH;FMTTYPE=image/webp:https://descubrecantabria.info/wp-content/uploads/2026/03/eventos-santander-taller-de-caronaje_11zon.webp
END:VEVENT
END:VCALENDAR