BEGIN:VCALENDAR
VERSION:2.0
PRODID:-//Guía oficial de Cantabria | Turismo | Descubre Cantabria - ECPv6.15.20//NONSGML v1.0//EN
CALSCALE:GREGORIAN
METHOD:PUBLISH
X-WR-CALNAME:Guía oficial de Cantabria | Turismo | Descubre Cantabria
X-ORIGINAL-URL:https://descubrecantabria.info
X-WR-CALDESC:Eventos para Guía oficial de Cantabria | Turismo | Descubre Cantabria
REFRESH-INTERVAL;VALUE=DURATION:PT1H
X-Robots-Tag:noindex
X-PUBLISHED-TTL:PT1H
BEGIN:VTIMEZONE
TZID:Europe/Madrid
BEGIN:DAYLIGHT
TZOFFSETFROM:+0100
TZOFFSETTO:+0200
TZNAME:CEST
DTSTART:20250330T010000
END:DAYLIGHT
BEGIN:STANDARD
TZOFFSETFROM:+0200
TZOFFSETTO:+0100
TZNAME:CET
DTSTART:20251026T010000
END:STANDARD
BEGIN:DAYLIGHT
TZOFFSETFROM:+0100
TZOFFSETTO:+0200
TZNAME:CEST
DTSTART:20260329T010000
END:DAYLIGHT
BEGIN:STANDARD
TZOFFSETFROM:+0200
TZOFFSETTO:+0100
TZNAME:CET
DTSTART:20261025T010000
END:STANDARD
BEGIN:DAYLIGHT
TZOFFSETFROM:+0100
TZOFFSETTO:+0200
TZNAME:CEST
DTSTART:20270328T010000
END:DAYLIGHT
BEGIN:STANDARD
TZOFFSETFROM:+0200
TZOFFSETTO:+0100
TZNAME:CET
DTSTART:20271031T010000
END:STANDARD
END:VTIMEZONE
BEGIN:VEVENT
DTSTART;TZID=Europe/Madrid:20260301T113000
DTEND;TZID=Europe/Madrid:20260301T170000
DTSTAMP:20260421T205248
CREATED:20260223T185656Z
LAST-MODIFIED:20260223T185846Z
UID:280187-1772364600-1772384400@descubrecantabria.info
SUMMARY:Taller de gyozas en Bezana
DESCRIPTION:¿DE QUÉ TRATA “Taller de gyozas en Bezana “?\n  \nCon motivo de la celebración del Año Nuevo Chino 2026\, el Ayuntamiento de Santa Cruz de Bezana organizará\, en el Centro Cívico de Bezana\, una actividad para todo aquel que quiera conocer más acerca de esta festividad.  \nDurante la sesión se explicarán las principales tradiciones del Año Nuevo Chino y se llevará a cabo un taller de elaborarán de gyozas \nLa actividad está pensada para el disfrute de toda la familia. Los menores de 10 años deberán participar acompañados y bajo la supervisión de una persona adulta responsable. \nEl número de plazas es limitado hasta completar aforo\, por lo que será necesaria inscripción previa a través del correo electrónico: alcaldia@aytobezana.com. \n  \n¡Disfruta de los “Taller de gyozas en Bezana “!\n  \nEncuentra todos los eventos de Bezana aquí. \nDescubre Cantabria informa de que los diferentes eventos publicados se ofrecen a modo informativo\, no siendo Descubre Cantabria responsable de los problemas o daños causados por erratas o incorrecciones de los mismos.
URL:https://descubrecantabria.info/evento/taller-de-gyozas-en-bezana/
LOCATION:Centro Civico de Bezana\, Plaza Margarita\, s/n\, Bezana\, Cantabria\, 39100\, Spain
CATEGORIES:Gastronomía,Talleres
ATTACH;FMTTYPE=image/webp:https://descubrecantabria.info/wp-content/uploads/2026/02/eventos-bezana-taller-gyozas_11zon.webp
END:VEVENT
END:VCALENDAR