BEGIN:VCALENDAR
VERSION:2.0
PRODID:-//Guía oficial de Cantabria | Turismo | Descubre Cantabria - ECPv6.15.20//NONSGML v1.0//EN
CALSCALE:GREGORIAN
METHOD:PUBLISH
X-WR-CALNAME:Guía oficial de Cantabria | Turismo | Descubre Cantabria
X-ORIGINAL-URL:https://descubrecantabria.info
X-WR-CALDESC:Eventos para Guía oficial de Cantabria | Turismo | Descubre Cantabria
REFRESH-INTERVAL;VALUE=DURATION:PT1H
X-Robots-Tag:noindex
X-PUBLISHED-TTL:PT1H
BEGIN:VTIMEZONE
TZID:Europe/Madrid
BEGIN:DAYLIGHT
TZOFFSETFROM:+0100
TZOFFSETTO:+0200
TZNAME:CEST
DTSTART:20250330T010000
END:DAYLIGHT
BEGIN:STANDARD
TZOFFSETFROM:+0200
TZOFFSETTO:+0100
TZNAME:CET
DTSTART:20251026T010000
END:STANDARD
BEGIN:DAYLIGHT
TZOFFSETFROM:+0100
TZOFFSETTO:+0200
TZNAME:CEST
DTSTART:20260329T010000
END:DAYLIGHT
BEGIN:STANDARD
TZOFFSETFROM:+0200
TZOFFSETTO:+0100
TZNAME:CET
DTSTART:20261025T010000
END:STANDARD
BEGIN:DAYLIGHT
TZOFFSETFROM:+0100
TZOFFSETTO:+0200
TZNAME:CEST
DTSTART:20270328T010000
END:DAYLIGHT
BEGIN:STANDARD
TZOFFSETFROM:+0200
TZOFFSETTO:+0100
TZNAME:CET
DTSTART:20271031T010000
END:STANDARD
END:VTIMEZONE
BEGIN:VEVENT
DTSTART;TZID=Europe/Madrid:20260314T100000
DTEND;TZID=Europe/Madrid:20260314T170000
DTSTAMP:20260425T160802
CREATED:20260304T173026Z
LAST-MODIFIED:20260304T173145Z
UID:281580-1773482400-1773507600@descubrecantabria.info
SUMMARY:Taller de Lettering y flores
DESCRIPTION:¿DE QUÉ TRATA “Taller de Lettering y flores”?\n  \nEl arte de dibujar letras a mano y aprender a hacer flores. Adela es una experta en Lettering\, tiene un gusto exquisito y contagia su paz interior a todos sus alumnos. Es un taller perfecto para el que quiere iniciarse en el diseño gráfico\, el que quiere diseñar sus propias invitaciones de boda\, el que está emprendiendo un negocio y necesita que todo sea bonito o el que simplemente da valor a poner en bonito todo lo que escribe. \nEl taller: \n4 horas de risas y aprendizaje.\nMaterial incluido.\nCafé incluido \nProfesora: Adela \nCuándo: Domingo 14 de Marzo de 10-14h \nDónde: c/ San Pedro del Mar 48\, Santander. \n  \n¡Disfruta de los “Taller de Lettering y flores”!\nDescubre Cantabria informa de que los diferentes eventos publicados se ofrecen a modo informativo\, no siendo Descubre Cantabria responsable de los problemas o daños causados por erratas o incorrecciones de los mismos.
URL:https://descubrecantabria.info/evento/taller-de-lettering-y-flores/
LOCATION:Canteruca\, Calle San Pedro del Mar\, 48\, Santander\, Cantabria\, 39010\, Spain
CATEGORIES:Talleres
ATTACH;FMTTYPE=image/webp:https://descubrecantabria.info/wp-content/uploads/2026/03/eventos-santander-taller-de-lettering_11zon.webp
END:VEVENT
END:VCALENDAR