BEGIN:VCALENDAR
VERSION:2.0
PRODID:-//Guía oficial de Cantabria | Turismo | Descubre Cantabria - ECPv6.15.20//NONSGML v1.0//EN
CALSCALE:GREGORIAN
METHOD:PUBLISH
X-WR-CALNAME:Guía oficial de Cantabria | Turismo | Descubre Cantabria
X-ORIGINAL-URL:https://descubrecantabria.info
X-WR-CALDESC:Eventos para Guía oficial de Cantabria | Turismo | Descubre Cantabria
REFRESH-INTERVAL;VALUE=DURATION:PT1H
X-Robots-Tag:noindex
X-PUBLISHED-TTL:PT1H
BEGIN:VTIMEZONE
TZID:Europe/Madrid
BEGIN:DAYLIGHT
TZOFFSETFROM:+0100
TZOFFSETTO:+0200
TZNAME:CEST
DTSTART:20250330T010000
END:DAYLIGHT
BEGIN:STANDARD
TZOFFSETFROM:+0200
TZOFFSETTO:+0100
TZNAME:CET
DTSTART:20251026T010000
END:STANDARD
BEGIN:DAYLIGHT
TZOFFSETFROM:+0100
TZOFFSETTO:+0200
TZNAME:CEST
DTSTART:20260329T010000
END:DAYLIGHT
BEGIN:STANDARD
TZOFFSETFROM:+0200
TZOFFSETTO:+0100
TZNAME:CET
DTSTART:20261025T010000
END:STANDARD
BEGIN:DAYLIGHT
TZOFFSETFROM:+0100
TZOFFSETTO:+0200
TZNAME:CEST
DTSTART:20270328T010000
END:DAYLIGHT
BEGIN:STANDARD
TZOFFSETFROM:+0200
TZOFFSETTO:+0100
TZNAME:CET
DTSTART:20271031T010000
END:STANDARD
END:VTIMEZONE
BEGIN:VEVENT
DTSTART;TZID=Europe/Madrid:20260323T183000
DTEND;TZID=Europe/Madrid:20260323T183000
DTSTAMP:20260423T163449
CREATED:20260227T131448Z
LAST-MODIFIED:20260227T131536Z
UID:281117-1774290600-1774290600@descubrecantabria.info
SUMMARY:Taller de nutrición saludable en Piélagos
DESCRIPTION:¿DE QUÉ TRATA “Taller de nutrición saludable en Piélagos”?\n  \n“Desayunos y cenas que dan energía” El AMPA del  IES Valle de Piélagos\, en Renedo\, organizará un Taller de nutrición saludable. Se trata de una actividad práctica\, dirigida por Diego Somavilla en la que los participantes (el alumnado y sus familias) elaborarán recetas fáciles y equilibradas que\, posteriormente\, podrán degustar \nAsimismo\, Diego Somavilla facilitara a los asistentes algunos consejos para aumentar la energía diaria \n  \n¡Disfruta de los “Taller de nutrición saludable en Piélagos”!\nDescubre Cantabria informa de que los diferentes eventos publicados se ofrecen a modo informativo\, no siendo Descubre Cantabria responsable de los problemas o daños causados por erratas o incorrecciones de los mismos.
URL:https://descubrecantabria.info/evento/taller-de-nutricion-saludable-en-pielagos/
LOCATION:IES Valle de Pielagos\, Barrio Sorriebero Alto\, s/n\, Piélagos\, Cantabria\, 39470\, Spain
CATEGORIES:Talleres
ATTACH;FMTTYPE=image/webp:https://descubrecantabria.info/wp-content/uploads/2026/02/eventos-pielagos-desayunos-y-cenas-que-dan-energia_11zon.webp
END:VEVENT
END:VCALENDAR