BEGIN:VCALENDAR
VERSION:2.0
PRODID:-//Guía oficial de Cantabria | Turismo | Descubre Cantabria - ECPv6.15.20//NONSGML v1.0//EN
CALSCALE:GREGORIAN
METHOD:PUBLISH
X-WR-CALNAME:Guía oficial de Cantabria | Turismo | Descubre Cantabria
X-ORIGINAL-URL:https://descubrecantabria.info
X-WR-CALDESC:Eventos para Guía oficial de Cantabria | Turismo | Descubre Cantabria
REFRESH-INTERVAL;VALUE=DURATION:PT1H
X-Robots-Tag:noindex
X-PUBLISHED-TTL:PT1H
BEGIN:VTIMEZONE
TZID:Europe/Madrid
BEGIN:DAYLIGHT
TZOFFSETFROM:+0100
TZOFFSETTO:+0200
TZNAME:CEST
DTSTART:20250330T010000
END:DAYLIGHT
BEGIN:STANDARD
TZOFFSETFROM:+0200
TZOFFSETTO:+0100
TZNAME:CET
DTSTART:20251026T010000
END:STANDARD
BEGIN:DAYLIGHT
TZOFFSETFROM:+0100
TZOFFSETTO:+0200
TZNAME:CEST
DTSTART:20260329T010000
END:DAYLIGHT
BEGIN:STANDARD
TZOFFSETFROM:+0200
TZOFFSETTO:+0100
TZNAME:CET
DTSTART:20261025T010000
END:STANDARD
BEGIN:DAYLIGHT
TZOFFSETFROM:+0100
TZOFFSETTO:+0200
TZNAME:CEST
DTSTART:20270328T010000
END:DAYLIGHT
BEGIN:STANDARD
TZOFFSETFROM:+0200
TZOFFSETTO:+0100
TZNAME:CET
DTSTART:20271031T010000
END:STANDARD
END:VTIMEZONE
BEGIN:VEVENT
DTSTART;TZID=Europe/Madrid:20260329T160000
DTEND;TZID=Europe/Madrid:20260329T170000
DTSTAMP:20260423T150318
CREATED:20260313T083620Z
LAST-MODIFIED:20260313T083639Z
UID:24845161-1774800000-1774803600@descubrecantabria.info
SUMMARY:Taller de puzzles en Escobedo
DESCRIPTION:¿DE QUÉ TRATA “Taller de puzzles en Escobedo”?\n  \nÚLTIMA ACTIVIDAD DE MARZO\, ¿anotaste todas las fechas? Tarde de Puzzles. El domingo 29 de marzo despedimos el mes con una tarde llena de diversión\, concentración y buen ambiente. De 16:00–20:00 en el Centro Cultural Santa Cruz\, Escobedo\, la entrada es gratuita y habrá sorteo para todas las personas participantes. \nSi quieres unirte\, puedes inscribirte en el 658047822. ¡Te esperamos para encajar las ultimas piezas del mes de marzo! \n  \n¡Disfruta de los “Taller de puzzles en Escobedo”!\nDescubre Cantabria informa de que los diferentes eventos publicados se ofrecen a modo informativo\, no siendo Descubre Cantabria responsable de los problemas o daños causados por erratas o incorrecciones de los mismos.
URL:https://descubrecantabria.info/evento/taller-de-puzzles-en-escobedo/
LOCATION:Centro Cultural Santa Cruz\, Barrio Santa Cruz\, 18A\, Camargo\, Cantabria\, 39609\, Spain
CATEGORIES:Talleres
ATTACH;FMTTYPE=image/webp:https://descubrecantabria.info/wp-content/uploads/2026/03/eventos-cantabri-taller-de-puzles-en-camargo_11zon.webp
END:VEVENT
END:VCALENDAR