BEGIN:VCALENDAR
VERSION:2.0
PRODID:-//Guía oficial de Cantabria | Turismo | Descubre Cantabria - ECPv6.15.20//NONSGML v1.0//EN
CALSCALE:GREGORIAN
METHOD:PUBLISH
X-WR-CALNAME:Guía oficial de Cantabria | Turismo | Descubre Cantabria
X-ORIGINAL-URL:https://descubrecantabria.info
X-WR-CALDESC:Eventos para Guía oficial de Cantabria | Turismo | Descubre Cantabria
REFRESH-INTERVAL;VALUE=DURATION:PT1H
X-Robots-Tag:noindex
X-PUBLISHED-TTL:PT1H
BEGIN:VTIMEZONE
TZID:Europe/Madrid
BEGIN:DAYLIGHT
TZOFFSETFROM:+0100
TZOFFSETTO:+0200
TZNAME:CEST
DTSTART:20250330T010000
END:DAYLIGHT
BEGIN:STANDARD
TZOFFSETFROM:+0200
TZOFFSETTO:+0100
TZNAME:CET
DTSTART:20251026T010000
END:STANDARD
BEGIN:DAYLIGHT
TZOFFSETFROM:+0100
TZOFFSETTO:+0200
TZNAME:CEST
DTSTART:20260329T010000
END:DAYLIGHT
BEGIN:STANDARD
TZOFFSETFROM:+0200
TZOFFSETTO:+0100
TZNAME:CET
DTSTART:20261025T010000
END:STANDARD
BEGIN:DAYLIGHT
TZOFFSETFROM:+0100
TZOFFSETTO:+0200
TZNAME:CEST
DTSTART:20270328T010000
END:DAYLIGHT
BEGIN:STANDARD
TZOFFSETFROM:+0200
TZOFFSETTO:+0100
TZNAME:CET
DTSTART:20271031T010000
END:STANDARD
END:VTIMEZONE
BEGIN:VEVENT
DTSTART;TZID=Europe/Madrid:20260103T180000
DTEND;TZID=Europe/Madrid:20260103T180000
DTSTAMP:20260420T155556
CREATED:20251229T101652Z
LAST-MODIFIED:20251229T101700Z
UID:274656-1767463200-1767463200@descubrecantabria.info
SUMMARY:Taller familiar "Te cuento una ópera"
DESCRIPTION:¿DE QUÉ TRATA “Taller familiar “Te cuento una ópera””?\n  \n\n\n\n\n\n\n\n\n\n\n\n\n\n\n\n\n\nEl 3 de enero\, a las 18 horas\, Gustavo Moral y Evaristo te cuentan “La flauta mágica”\, de Mozart\, en un taller para público familiar (recomendado para niños y niñas hasta 12 años y sus familias) que tendrá lugar\, a las 18 horas\, en el Centro Cívico Juan de Santander. \nLas inscripciones pueden efectuarse en cualquier centro cívico del Ayuntamiento de Santander\, o en el teléfono 942203052. \nCon una duración aproximada de 60 minutos\, el taller servirá para adentrarnos en el mundo de “La flauta mágica”\, una de las óperas más sorprendentes de Wolfgang Amadeus Mozart. A lo largo de la actividad\, se presentará a los personajes principales\, como Tamino\, Pamina\, Papageno o la Reina de la Noche\, explicando qué papel tiene cada uno en esta aventura llena de magia. \nEn su desarrollo\, explica Gustavo Moral\, “escucharemos fragmentos musicales y aprenderemos cómo suenan las distintas voces de la ópera\, y cantaremos juntos alguna de las melodías de la ópera”. “El objetivo”\, añade\, “es que los niños y niñas vivan la ópera desde dentro: jugando\, descubriendo\, cantando y dejándose llevar por la imaginación. Con la ayuda de Evaristo\, cada participante podrá disfrutar de esta obra universal de una manera cercana y divertida”. \n\n\n\n\n\n\n  \n\n\n\n\n¡Disfruta de los “Taller familiar “Te cuento una ópera””!\nDescubre Santander informa de que los diferentes eventos publicados se ofrecen a modo informativo\, no siendo Descubre Santander responsable de los problemas o daños causados por erratas o incorrecciones de los mismos.
URL:https://descubrecantabria.info/evento/taller-familiar-te-cuento-una-opera/
LOCATION:Centro civico Juan de Santander\, Calle el Recial 25\, Santander\, Cantabria\, 39012\, Spain
CATEGORIES:Infantil,Talleres
ATTACH;FMTTYPE=image/webp:https://descubrecantabria.info/wp-content/uploads/2025/12/eventos-santander-taller-familiar-te-cuento-una-opera_11zon.webp
END:VEVENT
END:VCALENDAR