BEGIN:VCALENDAR
VERSION:2.0
PRODID:-//Guía oficial de Cantabria | Turismo | Descubre Cantabria - ECPv6.15.20//NONSGML v1.0//EN
CALSCALE:GREGORIAN
METHOD:PUBLISH
X-WR-CALNAME:Guía oficial de Cantabria | Turismo | Descubre Cantabria
X-ORIGINAL-URL:https://descubrecantabria.info
X-WR-CALDESC:Eventos para Guía oficial de Cantabria | Turismo | Descubre Cantabria
REFRESH-INTERVAL;VALUE=DURATION:PT1H
X-Robots-Tag:noindex
X-PUBLISHED-TTL:PT1H
BEGIN:VTIMEZONE
TZID:Europe/Madrid
BEGIN:DAYLIGHT
TZOFFSETFROM:+0100
TZOFFSETTO:+0200
TZNAME:CEST
DTSTART:20250330T010000
END:DAYLIGHT
BEGIN:STANDARD
TZOFFSETFROM:+0200
TZOFFSETTO:+0100
TZNAME:CET
DTSTART:20251026T010000
END:STANDARD
BEGIN:DAYLIGHT
TZOFFSETFROM:+0100
TZOFFSETTO:+0200
TZNAME:CEST
DTSTART:20260329T010000
END:DAYLIGHT
BEGIN:STANDARD
TZOFFSETFROM:+0200
TZOFFSETTO:+0100
TZNAME:CET
DTSTART:20261025T010000
END:STANDARD
BEGIN:DAYLIGHT
TZOFFSETFROM:+0100
TZOFFSETTO:+0200
TZNAME:CEST
DTSTART:20270328T010000
END:DAYLIGHT
BEGIN:STANDARD
TZOFFSETFROM:+0200
TZOFFSETTO:+0100
TZNAME:CET
DTSTART:20271031T010000
END:STANDARD
END:VTIMEZONE
BEGIN:VEVENT
DTSTART;TZID=Europe/Madrid:20260414T163000
DTEND;TZID=Europe/Madrid:20260414T170000
DTSTAMP:20260423T040613
CREATED:20260310T151835Z
LAST-MODIFIED:20260407T153608Z
UID:282689-1776184200-1776186000@descubrecantabria.info
SUMMARY:Taller sacos de semillas en Valderredible
DESCRIPTION:¿DE QUÉ TRATA “Taller sacos de semillas en Valderredible”?\n  \nElaboración de sacos de semillas y flor de lavanda para aplicar frío o calor\, aliviar molestias y favorecer la relajación. \n Martes\, 14 de abril\, a las 16:30 en el Centro Cultural de Valderredible.  \nInscripciones: 722 29 63 91 \n  \n¡Disfruta de los “Taller sacos de semillas en Valderredible”!\nDescubre Cantabria informa de que los diferentes eventos publicados se ofrecen a modo informativo\, no siendo Descubre Cantabria responsable de los problemas o daños causados por erratas o incorrecciones de los mismos.
URL:https://descubrecantabria.info/evento/taller-sacos-de-semillas-en-valderredible/
LOCATION:Ayuntamiento de Valderredible\, Barrio Polientes s/n\, Polientes\, Cantabria\, 39220\, Spain
CATEGORIES:Talleres
ATTACH;FMTTYPE=image/webp:https://descubrecantabria.info/wp-content/uploads/2026/04/eventos-valderredible-taller-sacos-de-semillas_11zon.webp
END:VEVENT
END:VCALENDAR