BEGIN:VCALENDAR
VERSION:2.0
PRODID:-//Guía oficial de Cantabria | Turismo | Descubre Cantabria - ECPv6.15.20//NONSGML v1.0//EN
CALSCALE:GREGORIAN
METHOD:PUBLISH
X-WR-CALNAME:Guía oficial de Cantabria | Turismo | Descubre Cantabria
X-ORIGINAL-URL:https://descubrecantabria.info
X-WR-CALDESC:Eventos para Guía oficial de Cantabria | Turismo | Descubre Cantabria
REFRESH-INTERVAL;VALUE=DURATION:PT1H
X-Robots-Tag:noindex
X-PUBLISHED-TTL:PT1H
BEGIN:VTIMEZONE
TZID:Europe/Madrid
BEGIN:DAYLIGHT
TZOFFSETFROM:+0100
TZOFFSETTO:+0200
TZNAME:CEST
DTSTART:20250330T010000
END:DAYLIGHT
BEGIN:STANDARD
TZOFFSETFROM:+0200
TZOFFSETTO:+0100
TZNAME:CET
DTSTART:20251026T010000
END:STANDARD
BEGIN:DAYLIGHT
TZOFFSETFROM:+0100
TZOFFSETTO:+0200
TZNAME:CEST
DTSTART:20260329T010000
END:DAYLIGHT
BEGIN:STANDARD
TZOFFSETFROM:+0200
TZOFFSETTO:+0100
TZNAME:CET
DTSTART:20261025T010000
END:STANDARD
BEGIN:DAYLIGHT
TZOFFSETFROM:+0100
TZOFFSETTO:+0200
TZNAME:CEST
DTSTART:20270328T010000
END:DAYLIGHT
BEGIN:STANDARD
TZOFFSETFROM:+0200
TZOFFSETTO:+0100
TZNAME:CET
DTSTART:20271031T010000
END:STANDARD
END:VTIMEZONE
BEGIN:VEVENT
DTSTART;TZID=Europe/Madrid:20260413T160000
DTEND;TZID=Europe/Madrid:20260413T170000
DTSTAMP:20260421T205010
CREATED:20260225T133018Z
LAST-MODIFIED:20260225T133033Z
UID:30002598-1776096000-1776099600@descubrecantabria.info
SUMMARY:Taller tejiendo historias
DESCRIPTION:¿DE QUÉ TRATA “Taller tejiendo historias”?\n  \nTaller ‘Tejiendo Historias’A partir del 23 de marzo a las 16.00  en el Centro Cultural El Espolón. Comparte recuerdos para escribir la historia de Comillas. Se realizará una vez por semana hasta el mes de mayo. Organiza la Asociación de Mujeres de Cantabria La Amazuela. \n  \n¡Disfruta de los “Taller tejiendo historias”!\n  \nEncuentra todos los eventos de Comillas aquí. \nDescubre Cantabria informa de que los diferentes eventos publicados se ofrecen a modo informativo\, no siendo Descubre Cantabria responsable de los problemas o daños causados por erratas o incorrecciones de los mismos.
URL:https://descubrecantabria.info/evento/taller-tejiendo-historias/2026-04-13/
LOCATION:Centro Cultural El Espolón\, Calle Antonio López 3\, Comillas\, Cantabria\, 39520\, Spain
CATEGORIES:Talleres
ATTACH;FMTTYPE=image/webp:https://descubrecantabria.info/wp-content/uploads/2026/02/eventos-comillas-taller-tejiendo-historias_11zon.webp
END:VEVENT
END:VCALENDAR