BEGIN:VCALENDAR
VERSION:2.0
PRODID:-//Guía oficial de Cantabria | Turismo | Descubre Cantabria - ECPv6.15.20//NONSGML v1.0//EN
CALSCALE:GREGORIAN
METHOD:PUBLISH
X-WR-CALNAME:Guía oficial de Cantabria | Turismo | Descubre Cantabria
X-ORIGINAL-URL:https://descubrecantabria.info
X-WR-CALDESC:Eventos para Guía oficial de Cantabria | Turismo | Descubre Cantabria
REFRESH-INTERVAL;VALUE=DURATION:PT1H
X-Robots-Tag:noindex
X-PUBLISHED-TTL:PT1H
BEGIN:VTIMEZONE
TZID:Europe/Madrid
BEGIN:DAYLIGHT
TZOFFSETFROM:+0100
TZOFFSETTO:+0200
TZNAME:CEST
DTSTART:20250330T010000
END:DAYLIGHT
BEGIN:STANDARD
TZOFFSETFROM:+0200
TZOFFSETTO:+0100
TZNAME:CET
DTSTART:20251026T010000
END:STANDARD
BEGIN:DAYLIGHT
TZOFFSETFROM:+0100
TZOFFSETTO:+0200
TZNAME:CEST
DTSTART:20260329T010000
END:DAYLIGHT
BEGIN:STANDARD
TZOFFSETFROM:+0200
TZOFFSETTO:+0100
TZNAME:CET
DTSTART:20261025T010000
END:STANDARD
BEGIN:DAYLIGHT
TZOFFSETFROM:+0100
TZOFFSETTO:+0200
TZNAME:CEST
DTSTART:20270328T010000
END:DAYLIGHT
BEGIN:STANDARD
TZOFFSETFROM:+0200
TZOFFSETTO:+0100
TZNAME:CET
DTSTART:20271031T010000
END:STANDARD
END:VTIMEZONE
BEGIN:VEVENT
DTSTART;TZID=Europe/Madrid:20260329T110000
DTEND;TZID=Europe/Madrid:20260329T170000
DTSTAMP:20260423T081545
CREATED:20260306T193806Z
LAST-MODIFIED:20260306T193824Z
UID:281962-1774782000-1774803600@descubrecantabria.info
SUMMARY:Taller voces de mujer en la tradición oral de Cantabria
DESCRIPTION:¿DE QUÉ TRATA “Taller voces de mujer en la tradición oral de Cantabria”?\n  \nLa voz femenina es el pilar fundamental de la transmisión de la cultura popular en Cantabria.  \nHistóricamente las mujeres han sido las principales depositarias de la tradición oral\, conservando romances\, cuentos\, leyendas\, coplas y saberes que hoy definen la identidad de la región.  \nEn el taller recuperaremos estas narraciones que se han ido transmitiendo de generación en generación formando parte de la memoria de nuestros mayores. \n  \n¡Disfruta de los “Taller voces de mujer en la tradición oral de Cantabria”!\nDescubre Cantabria informa de que los diferentes eventos publicados se ofrecen a modo informativo\, no siendo Descubre Cantabria responsable de los problemas o daños causados por erratas o incorrecciones de los mismos.
URL:https://descubrecantabria.info/evento/taller-voces-de-mujer-en-la-tradicion-oral-de-cantabria/
LOCATION:Museo Etnográfico de Cantabria\, Calle Héroes del Dos de Mayo\, s/n\, Camargo\, Cantabria\, 39600\, Spain
CATEGORIES:Talleres
ATTACH;FMTTYPE=image/webp:https://descubrecantabria.info/wp-content/uploads/2026/03/eventos-cantabria-talleres-voces-de-mujer-en-la-tradicion-oral-de-cantabria_11zon.webp
END:VEVENT
END:VCALENDAR