BEGIN:VCALENDAR
VERSION:2.0
PRODID:-//Guía oficial de Cantabria | Turismo | Descubre Cantabria - ECPv6.15.20//NONSGML v1.0//EN
CALSCALE:GREGORIAN
METHOD:PUBLISH
X-WR-CALNAME:Guía oficial de Cantabria | Turismo | Descubre Cantabria
X-ORIGINAL-URL:https://descubrecantabria.info
X-WR-CALDESC:Eventos para Guía oficial de Cantabria | Turismo | Descubre Cantabria
REFRESH-INTERVAL;VALUE=DURATION:PT1H
X-Robots-Tag:noindex
X-PUBLISHED-TTL:PT1H
BEGIN:VTIMEZONE
TZID:Europe/Madrid
BEGIN:DAYLIGHT
TZOFFSETFROM:+0100
TZOFFSETTO:+0200
TZNAME:CEST
DTSTART:20250330T010000
END:DAYLIGHT
BEGIN:STANDARD
TZOFFSETFROM:+0200
TZOFFSETTO:+0100
TZNAME:CET
DTSTART:20251026T010000
END:STANDARD
BEGIN:DAYLIGHT
TZOFFSETFROM:+0100
TZOFFSETTO:+0200
TZNAME:CEST
DTSTART:20260329T010000
END:DAYLIGHT
BEGIN:STANDARD
TZOFFSETFROM:+0200
TZOFFSETTO:+0100
TZNAME:CET
DTSTART:20261025T010000
END:STANDARD
BEGIN:DAYLIGHT
TZOFFSETFROM:+0100
TZOFFSETTO:+0200
TZNAME:CEST
DTSTART:20270328T010000
END:DAYLIGHT
BEGIN:STANDARD
TZOFFSETFROM:+0200
TZOFFSETTO:+0100
TZNAME:CET
DTSTART:20271031T010000
END:STANDARD
END:VTIMEZONE
BEGIN:VEVENT
DTSTART;TZID=Europe/Madrid:20260307T080000
DTEND;TZID=Europe/Madrid:20260307T170000
DTSTAMP:20260423T082029
CREATED:20260220T094100Z
LAST-MODIFIED:20260220T094111Z
UID:279611-1772870400-1772902800@descubrecantabria.info
SUMMARY:Un bosque de futuro para la Cueva del Valle
DESCRIPTION:¿DE QUÉ TRATA “Un bosque de futuro para la Cueva del Valle”?\n  \nLa actividad consistirá en la plantación forestal para reforzar la masa de bosque autóctono en una parcela de Rasines afectada por actividades pasadas\, como la explotación de la cantera. Esta intervención forma parte de las acciones de restauración ambiental que se vienen desarrollando en la zona\, a las que nos sumamos con esta jornada de voluntariado. La parcela\, rica en flora y fauna\, se beneficiará de nuestra labor mediante la plantación de especies arbóreas y arbustivas que fomenten la protección\, el crecimiento y la densidad del bosque. \nTrabajaremos siguiendo las indicaciones del Ayuntamiento de Rasines\, integrante del Grupo de Acción Local Asón-Aguera-Trasmiera. El entorno destaca por su valor natural y cultural\, incluyendo la cercana Cueva del Valle\, un espacio de gran interés geológico y arqueológico\, que aporta un contexto único a la actividad combinando conservación ambiental y patrimonio. Terminaremos la jornada con un piscolabis sostenible. \n  \n¡Disfruta de los “Un bosque de futuro para la Cueva del Valle”!\nDescubre Cantabria informa de que los diferentes eventos publicados se ofrecen a modo informativo\, no siendo Descubre Cantabria responsable de los problemas o daños causados por erratas o incorrecciones de los mismos.
URL:https://descubrecantabria.info/evento/un-bosque-de-futuro-para-la-cueva-del-valle/
LOCATION:Parking de La Cantera de Helguera\, Barrio Rasines s/n\, Rasines\, Cantabria\, 39860\, Spain
CATEGORIES:Cultura científica,Talleres
ATTACH;FMTTYPE=image/webp:https://descubrecantabria.info/wp-content/uploads/2026/02/eventos-cantabria-un-bosque-de-futuro-para-la-cueva-del-valle_11zon.webp
END:VEVENT
END:VCALENDAR